Workbook

Sheet Вводные+табл.1
A2: Профиль | B2: РАФ-6 | C2: РАФ-6 | D2: РАФ-6 | E2: РАФ-6
A3: Обороты двигателя, n (об в мин) | B3: 2600 | C3: 2600 | D3: 2600 | E3: 2800
A4: Критический радиус винта (м), | B4: 0.7 | C4: 0.7 | D4: 0.7 | E4: 0.7
A5: Мак. допустимая окружная скорость винта, | B5: 250 | C5: 250 | D5: 250 | E5: 250
A6: Мощность двигателя, л.с | B6: 18 | C6: 18 | D6: 18 | E6: 18
A7: Мощность двигателя, N (ватт) P (Вт) = 746 ⋅ P (л.с.) | B7: =B6*746 -> 13428 | C7: =C6*746 -> 13428 | D7: =D6*746 -> 13428 | E7: =E6*746 -> 13428
A8: Расчётная скорость отрыва самолёта, | B8: 55 | C8: 55 | D8: 55 | E8: 55 | M8: b ̅=0,08
A9: Расчётная скорость отрыва самолёта, | B9: =B8/3.6 -> 15.277778 | C9: =C8/3.6 -> 15.277778 | D9: =D8/3.6 -> 15.277778 | E9: =E8/3.6 -> 15.277778
A10: V(м/с) = V(км/ч) : 3,6
A11: Вариант 1 при | B11: =B9*1.2 -> 18.333333 | C11: =C9*1.2 -> 18.333333 | D11: =D9*1.2 -> 18.333333 | E11: =E9*1.2 -> 18.333333
A12: Вариант 2 при | B12: =B9 -> 15.277778 | C12: =C9 -> 15.277778 | D12: =D9 -> 15.277778 | E12: =E9 -> 15.277778
B13: =B3*0.1047 -> 272.22 | C13: =C3*0.1047 -> 272.22 | D13: =D3*0.1047 -> 272.22 | E13: =E3*0.1047 -> 293.16
B14: 1.2237 | C14: 1.2237 | D14: 1.2237 | E14: 1.2237
A15: Относительная ширина лопасти | B15: 0.08 | C15: 0.08 | D15: 0.08 | E15: 0.08
A18: Вычисляемая величина | B18: Желаемое КПД винта
B19: 0.7 | C19: 0.65 | D19: 0.63 | E19: 0.615
B20: =B19/0.85 -> 0.82352941 | C20: =C19/0.85 -> 0.76470588 | D20: =D19/0.85 -> 0.74117647 | E20: =E19/0.85 -> 0.72352941
B21: =4*((1/B20^2) - (1/B20)) -> 1.0408163 | C21: =4*((1/C20^2) - (1/C20)) -> 1.6094675 | D21: =4*((1/D20^2) - (1/D20)) -> 1.8846057 | E21: =4*((1/E20^2) - (1/E20)) -> 2.1124992
B22: =B7*B19/B11 -> 512.70545 | C22: =C7*C19/C11 -> 476.08364 | D22: =D7*D19/D11 -> 461.43491 | E22: =E7*E19/E11 -> 450.44836
B23: =2*B22/(B21*B14*B11^2) -> 2.3953336 | C23: =2*C22/(C21*C14*C11^2) -> 1.4383786 | D23: =2*D22/(D21*D14*D11^2) -> 1.1905897 | E23: =2*E22/(E21*E14*E11^2) -> 1.0368612
B24: =SQRT(B23/PI()) -> 0.87318862 | C24: =SQRT(C23/PI()) -> 0.67664624 | D24: =SQRT(D23/PI()) -> 0.61561064 | E24: =SQRT(E23/PI()) -> 0.57449384
B25: =B13*B24 -> 237.69941 | C25: =C13*C24 -> 184.19664 | D25: =D13*D24 -> 167.58153 | E25: =E13*E24 -> 168.41862
B26: =(B11 + SQRT(B11^2 + 4*B22*(B14*B23)))/2 -> 49.002009 | C26: =(C11 + SQRT(C11^2 + 4*C22*(C14*C23)))/2 -> 39.531177 | D26: =(D11 + SQRT(D11^2 + 4*D22*(D14*D23)))/2 -> 36.667642 | E26: =(E11 + SQRT(E11^2 + 4*E22*(E14*E23)))/2 -> 34.77057
A27: Примечание
A28: Критическая окружная скорость, >250м/с | B28: =IF(B25>B5, "ДА", IF(B5>B25, "НЕТ", "")) -> НЕТ | C28: =IF(C25>C5, "ДА", IF(C5>C25, "НЕТ", "")) -> НЕТ | D28: =IF(D25>D5, "ДА", IF(D5>D25, "НЕТ", "")) -> НЕТ | E28: =IF(E25>E5, "ДА", IF(E5>E25, "НЕТ", "")) -> НЕТ
A29: Необходимо снизить значение | B29: =IF(OR(B24>B4, B25>B5), "ДА", "НЕТ") -> ДА | C29: =IF(OR(C24>C4, C25>C5), "ДА", "НЕТ") -> НЕТ | D29: =IF(OR(D24>D4, D25>D5), "ДА", "НЕТ") -> НЕТ | E29: =IF(OR(E24>E4, E25>E5), "ДА", "НЕТ") -> НЕТ

Sheet Для РАФ-6
A2: № п/п | B2: Вычисляемая величина | C2: Размерность | D2: Относительный радиус
D3: 0.35 | E3: 0.45 | F3: 0.55 | G3: 0.65 | H3: 0.75 | I3: 0.85 | J3: 0.95 | K3: 0.98
A4: 1 | C4: м | D4: =D3*'Вводные+табл.1'!E24 -> 0.20107285 | E4: =E3*'Вводные+табл.1'!E24 -> 0.25852223 | F4: =F3*'Вводные+табл.1'!E24 -> 0.31597161 | G4: =G3*'Вводные+табл.1'!E24 -> 0.373421 | H4: =H3*'Вводные+табл.1'!E24 -> 0.43087038 | I4: =I3*'Вводные+табл.1'!E24 -> 0.48831977 | J4: =J3*'Вводные+табл.1'!E24 -> 0.54576915 | K4: =K3*'Вводные+табл.1'!E24 -> 0.56300397
A5: 2 | D5: =0.1+0.44*(1-D3)^2 -> 0.2859 | E5: =0.1+0.44*(1-E3)^2 -> 0.2331 | F5: =0.1+0.44*(1-F3)^2 -> 0.1891 | G5: =0.1+0.44*(1-G3)^2 -> 0.1539 | H5: =0.1+0.44*(1-H3)^2 -> 0.1275 | I5: =0.1+0.44*(1-I3)^2 -> 0.1099 | J5: =0.1+0.44*(1-J3)^2 -> 0.1011 | K5: =0.1+0.44*(1-K3)^2 -> 0.100176
A6: 3 | B6: α | C6: град | D6: 3 | E6: 3 | F6: 3 | G6: 3 | H6: 3 | I6: 3 | J6: 3 | K6: 3
A7: 4 | D7: ='РАФ-6_4град _Су'!C11 -> 1.730547 | E7: ='РАФ-6_4град _Су'!C12 -> 1.4235865 | F7: ='РАФ-6_4град _Су'!C13 -> 1.2010738 | G7: ='РАФ-6_4град _Су'!C14 -> 1.0384563 | H7: ='РАФ-6_4град _Су'!C15 -> 0.92364465 | I7: ='РАФ-6_4град _Су'!C16 -> 0.85003503 | J7: ='РАФ-6_4град _Су'!C17 -> 0.81403236 | K7: ='РАФ-6_4град _Су'!C18 -> 0.81028172
A8: 5 | B8: K | D8: ='РАФ-6_1 μ'!F14 -> 35.50325 | E8: ='РАФ-6_1 μ'!F13 -> 43.623606 | F8: ='РАФ-6_1 μ'!F12 -> 50.233021 | G8: ='РАФ-6_1 μ'!F11 -> 55.755911 | H8: ='РАФ-6_1 μ'!F10 -> 59.546939 | I8: ='РАФ-6_1 μ'!F9 -> 62.597557 | J8: ='РАФ-6_1 μ'!F8 -> 63.337967 | K8: ='РАФ-6_1 μ'!F7 -> 63.774102
A9: 6 | C9: рад | D9: =1/D8 -> 0.028166435 | E9: =1/E8 -> 0.022923369 | F9: =1/F8 -> 0.019907224 | G9: =1/G8 -> 0.017935318 | H9: =1/H8 -> 0.016793475 | I9: =1/I8 -> 0.015975064 | J9: =1/J8 -> 0.015788319 | K9: =1/K8 -> 0.015680346
A10: 7 | C10: м/с | D10: ='Вводные+табл.1'!E13*'Для РАФ-6'!D4 -> 58.946515 | E10: ='Вводные+табл.1'!E13*'Для РАФ-6'!E4 -> 75.788377 | F10: ='Вводные+табл.1'!E13*'Для РАФ-6'!F4 -> 92.630238 | G10: ='Вводные+табл.1'!E13*'Для РАФ-6'!G4 -> 109.4721 | H10: ='Вводные+табл.1'!E13*'Для РАФ-6'!H4 -> 126.31396 | I10: ='Вводные+табл.1'!E13*'Для РАФ-6'!I4 -> 143.15582 | J10: ='Вводные+табл.1'!E13*'Для РАФ-6'!J4 -> 159.99768 | K10: ='Вводные+табл.1'!E13*'Для РАФ-6'!K4 -> 165.05024
A11: 8 | C11: м | D11: =4 *'Вводные+табл.1'!E15 * SQRT(D4 * ('Вводные+табл.1'!E24- 'Для РАФ-6'!D4)) -> 0.087685152 | E11: =4 *'Вводные+табл.1'!E15 * SQRT(E4 * ('Вводные+табл.1'!E24- 'Для РАФ-6'!E4)) -> 0.091458265 | F11: =4 *'Вводные+табл.1'!E15 * SQRT(F4 * ('Вводные+табл.1'!E24- 'Для РАФ-6'!F4)) -> 0.091458265 | G11: =4 *'Вводные+табл.1'!E15 * SQRT(G4 * ('Вводные+табл.1'!E24- 'Для РАФ-6'!G4)) -> 0.087685152 | H11: =4 *'Вводные+табл.1'!E15 * SQRT(H4 * ('Вводные+табл.1'!E24- 'Для РАФ-6'!H4)) -> 0.079604202 | I11: =4 *'Вводные+табл.1'!E15 * SQRT(I4 * ('Вводные+табл.1'!E24- 'Для РАФ-6'!I4)) -> 0.065643307 | J11: =4 *'Вводные+табл.1'!E15 * SQRT(J4 * ('Вводные+табл.1'!E24- 'Для РАФ-6'!J4)) -> 0.04006657 | K11: =4 *'Вводные+табл.1'!E15 * SQRT(K4 * ('Вводные+табл.1'!E24- 'Для РАФ-6'!K4)) -> 0.025737324
A12: 9 | C12: м/с | D12: =SQRT(D10^2 + 'Вводные+табл.1'!E26^2) -> 68.437447 | E12: =SQRT(E10^2 + 'Вводные+табл.1'!F26^2) -> 75.788377 | F12: =SQRT(F10^2 + 'Вводные+табл.1'!G26^2) -> 92.630238 | G12: =SQRT(G10^2 + 'Вводные+табл.1'!H26^2) -> 109.4721 | H12: =SQRT(H10^2 + 'Вводные+табл.1'!I26^2) -> 126.31396 | I12: =SQRT(I10^2 + 'Вводные+табл.1'!J26^2) -> 143.15582 | J12: =SQRT(J10^2 + 'Вводные+табл.1'!K26^2) -> 159.99768 | K12: =SQRT(K10^2 + 'Вводные+табл.1'!L26^2) -> 165.05024
A13: 10 | C13: град | D13: =DEGREES(ATAN('Вводные+табл.1'!E26/D10)) -> 30.534927 | E13: =DEGREES(ATAN('Вводные+табл.1'!E26/E10)) -> 24.644947 | F13: =DEGREES(ATAN('Вводные+табл.1'!E26/F10)) -> 20.574605 | G13: =DEGREES(ATAN('Вводные+табл.1'!E26/G10)) -> 17.620909 | H13: =DEGREES(ATAN('Вводные+табл.1'!E26/H10)) -> 15.390685 | I13: =DEGREES(ATAN('Вводные+табл.1'!E26/I10)) -> 13.65199 | J13: =DEGREES(ATAN('Вводные+табл.1'!E26/J10)) -> 12.260829 | K13: =DEGREES(ATAN('Вводные+табл.1'!E26/K10)) -> 11.896353
A14: 11 | C14: м2 | D14: =D11*(E4-D4) -> 0.005037458 | E14: =E11*(F4-E4) -> 0.005254221 | F14: =F11*(G4-F4) -> 0.005254221 | G14: =G11*(H4-G4) -> 0.005037458 | H14: =H11*(I4-H4) -> 0.0045732124 | I14: =I11*(J4-I4) -> 0.0037711676 | J14: =J11*(K4-J4) -> 0.00069053993 | K14: =K11*(K4-J4) -> 0.00044357803
A15: 12 | C15: Н | D15: =(D7^2 * 'Вводные+табл.1'!E14 * D12^2 * D14)/2 -> 43.232544 | E15: =(E7^2 * 'Вводные+табл.1'!E14 * E12^2 * E14)/2 -> 37.421935 | F15: =(F7^2 * 'Вводные+табл.1'!E14 * F12^2 * F14)/2 -> 39.792227 | G15: =(G7^2 * 'Вводные+табл.1'!E14 * G12^2 * G14)/2 -> 39.832698 | H15: =(H7^2 * 'Вводные+табл.1'!E14 * H12^2 * H14)/2 -> 38.087186 | I15: =(I7^2 * 'Вводные+табл.1'!E14 * I12^2 * I14)/2 -> 34.167443 | J15: =(J7^2 * 'Вводные+табл.1'!E14 * J12^2 * J14)/2 -> 7.167117 | K15: =(K7^2 * 'Вводные+табл.1'!E14 * K12^2 * K14)/2 -> 4.8542195
A16: 13 | C16: град | D16: =D13+57.3*D9 -> 32.148864 | E16: =E13+57.3*E9 -> 25.958456 | F16: =F13+57.3*F9 -> 21.715289 | G16: =G13+57.3*G9 -> 18.648602 | H16: =H13+57.3*H9 -> 16.352951 | I16: =I13+57.3*I9 -> 14.567361 | J16: =J13+57.3*J9 -> 13.1655 | K16: =K13+57.3*K9 -> 12.794837
A17: 14 | C17: град | D17: =D13+D6 -> 33.534927 | E17: =E13+E6 -> 27.644947 | F17: =F13+F6 -> 23.574605 | G17: =G13+G6 -> 20.620909 | H17: =H13+H6 -> 18.390685 | I17: =I13+I6 -> 16.65199 | J17: =J13+J6 -> 15.260829 | K17: =K13+K6 -> 14.896353
A18: 15 | C18: Н | D18: =2*D15*COS(RADIANS(D16)) -> 73.20726 | E18: =2*E15*COS(RADIANS(E16)) -> 67.292996 | F18: =2*F15*COS(RADIANS(F16)) -> 73.936653 | G18: =2*G15*COS(RADIANS(G16)) -> 75.482764 | H18: =2*H15*COS(RADIANS(H16)) -> 73.092776 | I18: =2*I15*COS(RADIANS(I16)) -> 66.138097 | J18: =2*J15*COS(RADIANS(J16)) -> 13.957476 | K18: =2*K15*COS(RADIANS(K16)) -> 9.4673719
A19: 16 | C19: Вт | D19: =2*D15*D10*SIN(RADIANS(D16)) -> 2712.1218 | E19: =2*E15*E10*SIN(RADIANS(E16)) -> 2482.8733 | F19: =2*F15*F10*SIN(RADIANS(F16)) -> 2727.5738 | G19: =2*G15*G10*SIN(RADIANS(G16)) -> 2788.6987 | H19: =2*H15*H10*SIN(RADIANS(H16)) -> 2709.077 | I19: =2*I15*I10*SIN(RADIANS(I16)) -> 2460.4846 | J19: =2*J15*J10*SIN(RADIANS(J16)) -> 522.3654 | K19: =2*K15*K10*SIN(RADIANS(K16)) -> 354.86413
A20: 17 | C20: Н | D20: =D18 -> 73.20726 | E20: =D18+E18 -> 140.50026 | F20: =SUM(D18,E18,F18) -> 214.43691 | G20: =D18+E18+F18+G18 -> 289.91967 | H20: =D18+E18+F18+G18+H18 -> 363.01245 | I20: =D18+E18+F18+G18+H18+I18 -> 429.15055 | J20: =D18+E18+F18+G18+H18+I18+J18 -> 443.10802 | K20: =SUM(D18:K18) -> 452.57539
A21: 18 | C21: Вт | D21: =D19 -> 2712.1218 | E21: =SUM(D19:E19) -> 5194.9952 | F21: =SUM(D19:F19) -> 7922.5689 | G21: =SUM(D19:G19) -> 10711.268 | H21: =SUM(D19:H19) -> 13420.345 | I21: =SUM(D19:I19) -> 15880.829 | J21: =SUM(D19:J19) -> 16403.195 | K21: =SUM(D19:K19) -> 16758.059

Sheet Геометрия
A2: Геометрические данные, являющиеся исходными при изготовлении воздушного винта
A3: Геометрические размеры сечения винта | B3: Относительные радиусы сечения
B4: ='Для РАФ-6'!D3 -> 0.35 | C4: ='Для РАФ-6'!E3 -> 0.45 | D4: ='Для РАФ-6'!F3 -> 0.55 | E4: ='Для РАФ-6'!G3 -> 0.65 | F4: ='Для РАФ-6'!H3 -> 0.75 | G4: ='Для РАФ-6'!I3 -> 0.85 | H4: ='Для РАФ-6'!J3 -> 0.95 | I4: ='Для РАФ-6'!K3 -> 0.98
A5: Радиус r, см. | B5: ='Для РАФ-6'!D4*100 -> 20.107285 | C5: ='Для РАФ-6'!E4*100 -> 25.852223 | D5: ='Для РАФ-6'!F4*100 -> 31.597161 | E5: ='Для РАФ-6'!G4*100 -> 37.3421 | F5: ='Для РАФ-6'!H4*100 -> 43.087038 | G5: ='Для РАФ-6'!I4*100 -> 48.831977 | H5: ='Для РАФ-6'!J4*100 -> 54.576915 | I5: ='Для РАФ-6'!K4*100 -> 56.300397
A6: Хорда b, см. | B6: ='Для РАФ-6'!D11*100 -> 8.7685152 | C6: ='Для РАФ-6'!E11*100 -> 9.1458265 | D6: ='Для РАФ-6'!F11*100 -> 9.1458265 | E6: ='Для РАФ-6'!G11*100 -> 8.7685152 | F6: ='Для РАФ-6'!H11*100 -> 7.9604202 | G6: ='Для РАФ-6'!I11*100 -> 6.5643307 | H6: ='Для РАФ-6'!J11*100 -> 4.006657 | I6: ='Для РАФ-6'!K11*100 -> 2.5737324
A7: Толщина с, см. ( ) | B7: ='Для РАФ-6'!D5*B6 -> 2.5069185 | C7: ='Для РАФ-6'!E5*C6 -> 2.1318922 | D7: ='Для РАФ-6'!F5*D6 -> 1.7294758 | E7: ='Для РАФ-6'!G5*E6 -> 1.3494745 | F7: ='Для РАФ-6'!H5*F6 -> 1.0149536 | G7: ='Для РАФ-6'!I5*G6 -> 0.72141994 | H7: ='Для РАФ-6'!J5*H6 -> 0.40507302 | I7: ='Для РАФ-6'!K5*I6 -> 0.25782622
A8: Угол установки ϕ, град. | B8: ='Для РАФ-6'!D17 -> 33.534927 | C8: ='Для РАФ-6'!E17 -> 27.644947 | D8: ='Для РАФ-6'!F17 -> 23.574605 | E8: ='Для РАФ-6'!G17 -> 20.620909 | F8: ='Для РАФ-6'!H17 -> 18.390685 | G8: ='Для РАФ-6'!I17 -> 16.65199 | H8: ='Для РАФ-6'!J17 -> 15.260829 | I8: ='Для РАФ-6'!K17 -> 14.896353
A9: Шаг винта, м. (Н) | F9: =2*PI()*(F5/100)*TAN(RADIANS(F8)) -> 0.90008958

Sheet РАФ-6_4град _Су
B2: Исходные значения для построения графика. В расчётах не учавствуют
B3: 0.73 | C3: 0.08
B4: 0.81 | C4: 0.1
B5: 0.89 | C5: 0.12
B6: 0.98 | C6: 0.14
B7: 1.065 | C7: 0.16
B10: Y | C10: X (Су)
B11: ='Для РАФ-6'!D5 -> 0.2859 | C11: =( -0.3253 + SQRT( 0.3253^2 - 4 * -0.0486 *( -0.1315-B11 ) ) )/( 2 * -0.0486 ) -> 1.730547
B12: ='Для РАФ-6'!E5 -> 0.2331 | C12: =( -0.3253 + SQRT( 0.3253^2 - 4 * -0.0486 *( -0.1315-B12 ) ) )/( 2 * -0.0486 ) -> 1.4235865
B13: ='Для РАФ-6'!F5 -> 0.1891 | C13: =( -0.3253 + SQRT( 0.3253^2 - 4 * -0.0486 *( -0.1315-B13 ) ) )/( 2 * -0.0486 ) -> 1.2010738
B14: ='Для РАФ-6'!G5 -> 0.1539 | C14: =( -0.3253 + SQRT( 0.3253^2 - 4 * -0.0486 *( -0.1315-B14 ) ) )/( 2 * -0.0486 ) -> 1.0384563
B15: ='Для РАФ-6'!H5 -> 0.1275 | C15: =( -0.3253 + SQRT( 0.3253^2 - 4 * -0.0486 *( -0.1315-B15 ) ) )/( 2 * -0.0486 ) -> 0.92364465
B16: ='Для РАФ-6'!I5 -> 0.1099 | C16: =( -0.3253 + SQRT( 0.3253^2 - 4 * -0.0486 *( -0.1315-B16 ) ) )/( 2 * -0.0486 ) -> 0.85003503
B17: ='Для РАФ-6'!J5 -> 0.1011 | C17: =( -0.3253 + SQRT( 0.3253^2 - 4 * -0.0486 *( -0.1315-B17 ) ) )/( 2 * -0.0486 ) -> 0.81403236
B18: ='Для РАФ-6'!K5 -> 0.100176 | C18: =( -0.3253 + SQRT( 0.3253^2 - 4 * -0.0486 *( -0.1315-B18 ) ) )/( 2 * -0.0486 ) -> 0.81028172

Sheet РАФ-6_1 μ
B5: Исходные значения для построения графика. В расчётах не учавствуют
C6: 1/μ | F6: 1/μ
B7: 0.08 | C7: 61.5 | E7: ='Для РАФ-6'!K5 -> 0.100176 | F7: =45833*E7^3 - 18893*E7^2 + 2371*E7 - 30.223 -> 63.774102
B8: 0.1 | C8: 64 | E8: ='Для РАФ-6'!J5 -> 0.1011 | F8: =45833*E8^3 - 18893*E8^2 + 2371*E8 - 30.623 -> 63.337967
B9: 0.12 | C9: 60.4 | E9: ='Для РАФ-6'!I5 -> 0.1099 | F9: =45833*E9^3 - 18893*E9^2 + 2371*E9 - 30.623 -> 62.597557
B10: 0.14 | C10: 57.2 | E10: ='Для РАФ-6'!H5 -> 0.1275 | F10: =45833*E10^3 - 18893*E10^2 + 2371*E10 - 30.623 -> 59.546939
B11: 0.16 | C11: 52.7 | E11: ='Для РАФ-6'!G5 -> 0.1539 | F11: =FORECAST(E11,F8:F10,E8:E10) -> 55.755911
B12: 0.18 | C12: =FORECAST(B12,C9:C11,B9:B11) -> 49.066667 | E12: ='Для РАФ-6'!F5 -> 0.1891 | F12: =FORECAST(E12,F9:F11,E9:E11) -> 50.233021
B13: 0.2 | C13: =FORECAST(B13,C10:C12,B10:B12) -> 44.855556 | E13: ='Для РАФ-6'!E5 -> 0.2331 | F13: =FORECAST(E13,F10:F12,E10:E12) -> 43.623606
B14: 0.22 | C14: =FORECAST(B14,C11:C13,B11:B13) -> 41.02963 | E14: ='Для РАФ-6'!D5 -> 0.2859 | F14: =FORECAST(E14,F11:F13,E11:E13) -> 35.50325
B15: 0.24 | C15: =FORECAST(B15,C12:C14,B12:B14) -> 36.946914
B16: 0.26 | C16: =FORECAST(B16,C13:C15,B13:B15) -> 33.035391
B17: 0.28 | C17: =FORECAST(B17,C14:C16,B14:B16) -> 29.009739
B18: 0.3 | C18: =FORECAST(B18,C15:C17,B15:B17) -> 25.060174
B19: 0.32 | C19: =FORECAST(B19,C16:C18,B16:B18) -> 21.059884
B20: 0.34 | C20: =FORECAST(B20,C17:C19,B17:B19) -> 17.093411
