Workbook

Sheet Вводные+табл.1
A2: Профиль | B2: ВС-2 | C2: ВС-2 | D2: ВС-2 | E2: ВС-2
A3: Обороты двигателя, n (об в мин) | B3: 2600 | C3: 2600 | D3: 2600 | E3: 2900
A4: Критический радиус винта (м), | B4: 0.7 | C4: 0.7 | D4: 0.7 | E4: 0.7
A5: Мак. допустимая окружная скорость винта, | B5: 250 | C5: 250 | D5: 250 | E5: 250
A6: Мощность двигателя, л.с | B6: 18 | C6: 18 | D6: 18 | E6: 18
A7: Мощность двигателя, N (ватт) P (Вт) = 746 ⋅ P (л.с.) | B7: =B6*746 -> 13428 | C7: =C6*746 -> 13428 | D7: =D6*746 -> 13428 | E7: =E6*746 -> 13428
A8: Расчётная скорость отрыва самолёта, | B8: 55 | C8: 55 | D8: 55 | E8: 50
A9: Расчётная скорость отрыва самолёта, | B9: =B8/3.6 -> 15.277778 | C9: =C8/3.6 -> 15.277778 | D9: =D8/3.6 -> 15.277778 | E9: =E8/3.6 -> 13.888889
A10: V(м/с) = V(км/ч) : 3,6
A11: Вариант 1 при | B11: =B9*1.2 -> 18.333333 | C11: =C9*1.2 -> 18.333333 | D11: =D9*1.2 -> 18.333333 | E11: =E9*1.2 -> 16.666667
A12: Вариант 2 при м/с | E12: =E15/3.6 -> 23.333333
B13: =B3*0.1047 -> 272.22 | C13: =C3*0.1047 -> 272.22 | D13: =D3*0.1047 -> 272.22 | E13: =E3*0.1047 -> 303.63
B14: 1.2237 | C14: 1.2237 | D14: 1.2237 | E14: 1.2237
A15: Крейсерская скорость, км/ч | E15: 84
A18: Вычисляемая величина | B18: Желаемое КПД винта
B19: 0.7 | C19: 0.65 | D19: 0.64 | E19: 0.625
B20: =B19/0.85 -> 0.82352941 | C20: =C19/0.85 -> 0.76470588 | D20: =D19/0.85 -> 0.75294118 | E20: =E19/0.85 -> 0.73529412
B21: =4*((1/B20^2) - (1/B20)) -> 1.0408163 | C21: =4*((1/C20^2) - (1/C20)) -> 1.6094675 | D21: =4*((1/D20^2) - (1/D20)) -> 1.7431641 | E21: =4*((1/E20^2) - (1/E20)) -> 1.9584
B22: =B7*B19/B11 -> 512.70545 | C22: =C7*C19/C11 -> 476.08364 | D22: =D7*D19/D11 -> 468.75927 | E22: =E7*E19/E11 -> 503.55
B23: =2*B22/(B21*B14*B11^2) -> 2.3953336 | C23: =2*C22/(C21*C14*C11^2) -> 1.4383786 | D23: =2*D22/(D21*D14*D11^2) -> 1.3076267 | E23: =2*E22/(E21*E14*E11^2) -> 1.51286
B24: =SQRT(B23/PI()) -> 0.87318862 | C24: =SQRT(C23/PI()) -> 0.67664624 | D24: =SQRT(D23/PI()) -> 0.64515928 | E24: =SQRT(E23/PI()) -> 0.69394401
B25: =B13*B24 -> 237.69941 | C25: =C13*C24 -> 184.19664 | D25: =D13*D24 -> 175.62526 | E25: =E13*E24 -> 210.70222
B26: =(B11 + SQRT(B11^2 + 4*B22/(B14*B23)))/2 -> 25.258365 | C26: =(C11 + SQRT(C11^2 + 4*C22/(C14*C23)))/2 -> 27.995042 | D26: =(D11 + SQRT(D11^2 + 4*D22/(D14*D23)))/2 -> 28.582541 | E26: =(E11 + SQRT(E11^2 + 4*E22/(E14*E23)))/2 -> 26.811549
A27: Примечание
A28: Критическая окружная скорость, >250м/с | B28: =IF(B25>B5, "ДА", IF(B5>B25, "НЕТ", "")) -> НЕТ | C28: =IF(C25>C5, "ДА", IF(C5>C25, "НЕТ", "")) -> НЕТ | D28: =IF(D25>D5, "ДА", IF(D5>D25, "НЕТ", "")) -> НЕТ | E28: =IF(E25>E5, "ДА", IF(E5>E25, "НЕТ", "")) -> НЕТ
A29: Необходимо снизить значение | B29: =IF(OR(B24>B4, B25>B5), "ДА", "НЕТ") -> ДА | C29: =IF(OR(C24>C4, C25>C5), "ДА", "НЕТ") -> НЕТ | D29: =IF(OR(D24>D4, D25>D5), "ДА", "НЕТ") -> НЕТ | E29: =IF(OR(E24>E4, E25>E5), "ДА", "НЕТ") -> НЕТ

Sheet Для ВС-2
A2: № п/п | B2: Вычисляемая величина | C2: Размерность | D2: Относительный радиус
D3: 0.35 | E3: 0.45 | F3: 0.55 | G3: 0.65 | H3: 0.75 | I3: 0.85 | J3: 0.95 | K3: 0.98
A4: 1 | C4: м | D4: =D3*'Вводные+табл.1'!E24 -> 0.2428804 | E4: =E3*'Вводные+табл.1'!E24 -> 0.3122748 | F4: =F3*'Вводные+табл.1'!E24 -> 0.38166921 | G4: =G3*'Вводные+табл.1'!E24 -> 0.45106361 | H4: =H3*'Вводные+табл.1'!E24 -> 0.52045801 | I4: =I3*'Вводные+табл.1'!E24 -> 0.58985241 | J4: =J3*'Вводные+табл.1'!E24 -> 0.65924681 | K4: =K3*'Вводные+табл.1'!E24 -> 0.68006513
A5: 3 | D5: =0.1+0.44*(1-D3)^2 -> 0.2859 | E5: =0.1+0.44*(1-E3)^2 -> 0.2331 | F5: =0.1+0.44*(1-F3)^2 -> 0.1891 | G5: =0.1+0.44*(1-G3)^2 -> 0.1539 | H5: =0.1+0.44*(1-H3)^2 -> 0.1275 | I5: =0.1+0.44*(1-I3)^2 -> 0.1099 | J5: =0.1+0.44*(1-J3)^2 -> 0.1011 | K5: =0.1+0.44*(1-K3)^2 -> 0.100176
A6: 4 | B6: α | C6: град | D6: 4 | E6: 4 | F6: 4 | G6: 4 | H6: 4 | I6: 4 | J6: 4 | K6: 4
A7: 5 | D7: =0.264+0.084*D6+2.32*(D5-0.12) -> 0.984888 | E7: =0.264+0.084*E6+2.32*(E5-0.12) -> 0.862392 | F7: =0.264+0.084*F6+2.32*(F5-0.12) -> 0.760312 | G7: =0.264+0.084*G6+2.32*(G5-0.12) -> 0.678648 | H7: =0.264+0.084*H6+2.32*(H5-0.12) -> 0.6174 | I7: =0.264+0.084*I6+2.32*(I5-0.12) -> 0.576568 | J7: =0.264+0.084*J6+2.32*(J5-0.12) -> 0.556152 | K7: =0.264+0.084*K6+2.32*(K5-0.12) -> 0.55400832
A8: 6 | B8: K | D8: =К!C7 -> 67.407779 | E8: =К!C8 -> 45.151067 | F8: =К!C9 -> 53.009399 | G8: =К!C10 -> 54.895667 | H8: =К!C11 -> 51.721141 | I8: =К!C12 -> 47.699555 | J8: =К!C13 -> 45.182829 | K8: =К!C14 -> 44.899337
A9: 7 | C9: рад | D9: =1/D8 -> 0.014835083 | E9: =1/E8 -> 0.022147871 | F9: =1/F8 -> 0.018864579 | G9: =1/G8 -> 0.018216374 | H9: =1/H8 -> 0.019334454 | I9: =1/I8 -> 0.020964556 | J9: =1/J8 -> 0.022132302 | K9: =1/K8 -> 0.022272044
A10: 8 | C10: м/с | D10: ='Вводные+табл.1'!E13*'Для ВС-2'!D4 -> 73.745777 | E10: ='Вводные+табл.1'!E13*'Для ВС-2'!E4 -> 94.815999 | F10: ='Вводные+табл.1'!E13*'Для ВС-2'!F4 -> 115.88622 | G10: ='Вводные+табл.1'!E13*'Для ВС-2'!G4 -> 136.95644 | H10: ='Вводные+табл.1'!E13*'Для ВС-2'!H4 -> 158.02666 | I10: ='Вводные+табл.1'!E13*'Для ВС-2'!I4 -> 179.09689 | J10: ='Вводные+табл.1'!E13*'Для ВС-2'!J4 -> 200.16711 | K10: ='Вводные+табл.1'!E13*'Для ВС-2'!K4 -> 206.48818
A11: 9 | B11: где b=0,08 | C11: м | D11: =4 *0.08 * SQRT(D4 * ('Вводные+табл.1'!E24- 'Для ВС-2'!D4)) -> 0.10591686 | E11: =4 *0.08 * SQRT(E4 * ('Вводные+табл.1'!E24- 'Для ВС-2'!E4)) -> 0.11047449 | F11: =4 *0.08 * SQRT(F4 * ('Вводные+табл.1'!E24- 'Для ВС-2'!F4)) -> 0.11047449 | G11: =4 *0.08 * SQRT(G4 * ('Вводные+табл.1'!E24- 'Для ВС-2'!G4)) -> 0.10591686 | H11: =4 *0.08 * SQRT(H4 * ('Вводные+табл.1'!E24- 'Для ВС-2'!H4)) -> 0.096155703 | I11: =4 *0.08 * SQRT(I4 * ('Вводные+табл.1'!E24- 'Для ВС-2'!I4)) -> 0.079292024 | J11: =4 *0.08 * SQRT(J4 * ('Вводные+табл.1'!E24- 'Для ВС-2'!J4)) -> 0.048397309 | K11: =4 *0.08 * SQRT(K4 * ('Вводные+табл.1'!E24- 'Для ВС-2'!K4)) -> 0.031088692
A12: 10 | C12: м/с | D12: =SQRT(D10^2 + 'Вводные+табл.1'!E26^2) -> 78.468457 | E12: =SQRT(E10^2 + 'Вводные+табл.1'!F26^2) -> 94.815999 | F12: =SQRT(F10^2 + 'Вводные+табл.1'!G26^2) -> 115.88622 | G12: =SQRT(G10^2 + 'Вводные+табл.1'!H26^2) -> 136.95644 | H12: =SQRT(H10^2 + 'Вводные+табл.1'!I26^2) -> 158.02666 | I12: =SQRT(I10^2 + 'Вводные+табл.1'!J26^2) -> 179.09689 | J12: =SQRT(J10^2 + 'Вводные+табл.1'!K26^2) -> 200.16711 | K12: =SQRT(K10^2 + 'Вводные+табл.1'!L26^2) -> 206.48818
A13: 11 | C13: град | D13: =DEGREES(ATAN('Вводные+табл.1'!E26/D10)) -> 19.979609 | E13: =DEGREES(ATAN('Вводные+табл.1'!E26/E10)) -> 15.789551 | F13: =DEGREES(ATAN('Вводные+табл.1'!E26/F10)) -> 13.026803 | G13: =DEGREES(ATAN('Вводные+табл.1'!E26/G10)) -> 11.076538 | H13: =DEGREES(ATAN('Вводные+табл.1'!E26/H10)) -> 9.6293733 | I13: =DEGREES(ATAN('Вводные+табл.1'!E26/I10)) -> 8.5141874 | J13: =DEGREES(ATAN('Вводные+табл.1'!E26/J10)) -> 7.6291209 | K13: =DEGREES(ATAN('Вводные+табл.1'!E26/K10)) -> 7.3982037
A14: 12 | C14: м2 | D14: =D11*(E4-D4) -> 0.0073500373 | E14: =E11*(F4-E4) -> 0.0076663112 | F14: =F11*(G4-F4) -> 0.0076663112 | G14: =G11*(H4-G4) -> 0.0073500373 | H14: =H11*(I4-H4) -> 0.0066726674 | I14: =I11*(J4-I4) -> 0.0055024225 | J14: =J11*(K4-J4) -> 0.0010075507 | K14: =K11*(K4-J4) -> 0.00064721434
A15: 13 | C15: Н | D15: =(D7^2 * 'Вводные+табл.1'!E14 * D12^2 * D14)/2 -> 26.859531 | E15: =(E7^2 * 'Вводные+табл.1'!E14 * E12^2 * E14)/2 -> 31.362025 | F15: =(F7^2 * 'Вводные+табл.1'!E14 * F12^2 * F14)/2 -> 36.414865 | G15: =(G7^2 * 'Вводные+табл.1'!E14 * G12^2 * G14)/2 -> 38.849782 | H15: =(H7^2 * 'Вводные+табл.1'!E14 * H12^2 * H14)/2 -> 38.86319 | I15: =(I7^2 * 'Вводные+табл.1'!E14 * I12^2 * I14)/2 -> 35.898479 | J15: =(J7^2 * 'Вводные+табл.1'!E14 * J12^2 * J14)/2 -> 7.6398407 | K15: =(K7^2 * 'Вводные+табл.1'!E14 * K12^2 * K14)/2 -> 5.1822224
A16: 14 | C16: град | D16: =D13+57.3*D9 -> 20.829659 | E16: =E13+57.3*E9 -> 17.058624 | F16: =F13+57.3*F9 -> 14.107743 | G16: =G13+57.3*G9 -> 12.120336 | H16: =H13+57.3*H9 -> 10.737238 | I16: =I13+57.3*I9 -> 9.7154565 | J16: =J13+57.3*J9 -> 8.8973018 | K16: =K13+57.3*K9 -> 8.6743918
A17: 15 | C17: град | D17: =D13+D6 -> 23.979609 | E17: =E13+E6 -> 19.789551 | F17: =F13+F6 -> 17.026803 | G17: =G13+G6 -> 15.076538 | H17: =H13+H6 -> 13.629373 | I17: =I13+I6 -> 12.514187 | J17: =J13+J6 -> 11.629121 | K17: =K13+K6 -> 11.398204
A18: 16 | C18: Н | D18: =2*D15*COS(RADIANS(D16)) -> 50.208077 | E18: =2*E15*COS(RADIANS(E16)) -> 59.964512 | F18: =2*F15*COS(RADIANS(F16)) -> 70.633118 | G18: =2*G15*COS(RADIANS(G16)) -> 75.967546 | H18: =2*H15*COS(RADIANS(H16)) -> 76.36554 | I18: =2*I15*COS(RADIANS(I16)) -> 70.767244 | J18: =2*J15*COS(RADIANS(J16)) -> 15.095823 | K18: =2*K15*COS(RADIANS(K16)) -> 10.24589
A19: 17 | C19: Вт | D19: =2*D15*D10*SIN(RADIANS(D16)) -> 1408.6922 | E19: =2*E15*E10*SIN(RADIANS(E16)) -> 1744.6241 | F19: =2*F15*F10*SIN(RADIANS(F16)) -> 2057.2077 | G19: =2*G15*G10*SIN(RADIANS(G16)) -> 2234.3396 | H19: =2*H15*H10*SIN(RADIANS(H16)) -> 2288.357 | I19: =2*I15*I10*SIN(RADIANS(I16)) -> 2169.9586 | J19: =2*J15*J10*SIN(RADIANS(J16)) -> 473.03782 | K19: =2*K15*K10*SIN(RADIANS(K16)) -> 322.77306
A20: 18 | C20: Н | D20: =D18 -> 50.208077 | E20: =D18+E18 -> 110.17259 | F20: =SUM(D18,E18,F18) -> 180.80571 | G20: =D18+E18+F18+G18 -> 256.77325 | H20: =D18+E18+F18+G18+H18 -> 333.13879 | I20: =D18+E18+F18+G18+H18+I18 -> 403.90604 | J20: =D18+E18+F18+G18+H18+I18+J18 -> 419.00186 | K20: =SUM(D18:K18) -> 429.24775
A21: 19 | C21: Вт | D21: =D19 -> 1408.6922 | E21: =SUM(D19:E19) -> 3153.3163 | F21: =SUM(D19:F19) -> 5210.524 | G21: =SUM(D19:G19) -> 7444.8636 | H21: =SUM(D19:H19) -> 9733.2205 | I21: =SUM(D19:I19) -> 11903.179 | J21: =SUM(D19:J19) -> 12376.217 | K21: =SUM(D19:K19) -> 12698.99

Sheet Геометрия
B2: Геометрические данные, являющиеся исходными при изготовлении воздушного винта
B3: Геометрические размеры сечения винта | C3: Относительные радиусы сечения
C4: ='Для ВС-2'!D3 -> 0.35 | D4: ='Для ВС-2'!E3 -> 0.45 | E4: ='Для ВС-2'!F3 -> 0.55 | F4: ='Для ВС-2'!G3 -> 0.65 | G4: ='Для ВС-2'!H3 -> 0.75 | H4: ='Для ВС-2'!I3 -> 0.85 | I4: ='Для ВС-2'!J3 -> 0.95 | J4: ='Для ВС-2'!K3 -> 0.98
B5: Радиус r, см. | C5: ='Для ВС-2'!D4*100 -> 24.28804 | D5: ='Для ВС-2'!E4*100 -> 31.22748 | E5: ='Для ВС-2'!F4*100 -> 38.166921 | F5: ='Для ВС-2'!G4*100 -> 45.106361 | G5: ='Для ВС-2'!H4*100 -> 52.045801 | H5: ='Для ВС-2'!I4*100 -> 58.985241 | I5: ='Для ВС-2'!J4*100 -> 65.924681 | J5: ='Для ВС-2'!K4*100 -> 68.006513
B6: Хорда b, см. | C6: ='Для ВС-2'!D11*100 -> 10.591686 | D6: ='Для ВС-2'!E11*100 -> 11.047449 | E6: ='Для ВС-2'!F11*100 -> 11.047449 | F6: ='Для ВС-2'!G11*100 -> 10.591686 | G6: ='Для ВС-2'!H11*100 -> 9.6155703 | H6: ='Для ВС-2'!I11*100 -> 7.9292024 | I6: ='Для ВС-2'!J11*100 -> 4.8397309 | J6: ='Для ВС-2'!K11*100 -> 3.1088692
B7: Толщина с, см. ( ) | C7: ='Для ВС-2'!D5*Геометрия!C6 -> 3.0281631 | D7: ='Для ВС-2'!E5*Геометрия!D6 -> 2.5751604 | E7: ='Для ВС-2'!F5*Геометрия!E6 -> 2.0890726 | F7: ='Для ВС-2'!G5*Геометрия!F6 -> 1.6300605 | G7: ='Для ВС-2'!H5*Геометрия!G6 -> 1.2259852 | H7: ='Для ВС-2'!I5*Геометрия!H6 -> 0.87141934 | I7: ='Для ВС-2'!J5*Геометрия!I6 -> 0.48929679 | J7: ='Для ВС-2'!K5*Геометрия!J6 -> 0.31143408
B8: Угол установки ϕ, град. | C8: ='Для ВС-2'!D17 -> 23.979609 | D8: ='Для ВС-2'!E17 -> 19.789551 | E8: ='Для ВС-2'!F17 -> 17.026803 | F8: ='Для ВС-2'!G17 -> 15.076538 | G8: ='Для ВС-2'!H17 -> 13.629373 | H8: ='Для ВС-2'!I17 -> 12.514187 | I8: ='Для ВС-2'!J17 -> 11.629121 | J8: ='Для ВС-2'!K17 -> 11.398204
B9: Шаг винта, м. (Н) | G9: =2*PI()*(G5/100)*TAN(RADIANS(G8)) -> 0.79290351
B10: Радиус винта, м. (R) | G10: ='Вводные+табл.1'!E24 -> 0.69394401

Sheet К
C6: K
B7: ='Для ВС-2'!D5 -> 0.2859 | C7: =J7-F7*(4-N7)^2 -> 67.407779 | E7: =B7 -> 0.2859 | F7: =0.72-1500*(E7-0.18)^3 -> -1.0614726 | I7: =B7 -> 0.2859 | J7: =60-2200*(I7-0.18)^2 -> 35.327418 | M7: =B7 -> 0.2859 | N7: =4.6+25*(M7-0.09) -> 9.4975
B8: ='Для ВС-2'!E5 -> 0.2331 | C8: =J8-F8*(4-N8)^2 -> 45.151067 | E8: =B8 -> 0.2331 | F8: =0.72-1500*(E8-0.18)^3 -> 0.49541806 | I8: =B8 -> 0.2331 | J8: =60-2200*(I8-0.18)^2 -> 53.796858 | M8: =B8 -> 0.2331 | N8: =4.6+25*(M8-0.09) -> 8.1775
B9: ='Для ВС-2'!F5 -> 0.1891 | C9: =J9-F9*(4-N9)^2 -> 53.009399 | E9: =B9 -> 0.1891 | F9: =0.72-1500*(E9-0.18)^3 -> 0.71886964 | I9: =B9 -> 0.1891 | J9: =60-2200*(I9-0.18)^2 -> 59.817818 | M9: =B9 -> 0.1891 | N9: =4.6+25*(M9-0.09) -> 7.0775
B10: ='Для ВС-2'!G5 -> 0.1539 | C10: =J10-F10*(4-N10)^2 -> 54.895667 | E10: =B10 -> 0.1539 | F10: =0.72-1500*(E10-0.18)^3 -> 0.74666937 | I10: =B10 -> 0.1539 | J10: =60-2200*(I10-0.18)^2 -> 58.501338 | M10: =B10 -> 0.1539 | N10: =4.6+25*(M10-0.09) -> 6.1975
B11: ='Для ВС-2'!H5 -> 0.1275 | C11: =J11-F11*(4-N11)^2 -> 51.721141 | E11: =B11 -> 0.1275 | F11: =0.72-1500*(E11-0.18)^3 -> 0.93705469 | I11: =B11 -> 0.1275 | J11: =60-2200*(I11-0.18)^2 -> 53.93625 | M11: =B11 -> 0.1275 | N11: =4.6+25*(M11-0.09) -> 5.5375
B12: ='Для ВС-2'!I5 -> 0.1099 | C12: =J12-F12*(4-N12)^2 -> 47.699555 | E12: =B12 -> 0.1099 | F12: =0.72-1500*(E12-0.18)^3 -> 1.2367082 | I12: =B12 -> 0.1099 | J12: =60-2200*(I12-0.18)^2 -> 49.189178 | M12: =B12 -> 0.1099 | N12: =4.6+25*(M12-0.09) -> 5.0975
B13: ='Для ВС-2'!J5 -> 0.1011 | C13: =J13-F13*(4-N13)^2 -> 45.182829 | E13: =B13 -> 0.1011 | F13: =0.72-1500*(E13-0.18)^3 -> 1.4567536 | I13: =B13 -> 0.1011 | J13: =60-2200*(I13-0.18)^2 -> 46.304538 | M13: =B13 -> 0.1011 | N13: =4.6+25*(M13-0.09) -> 4.8775
B14: ='Для ВС-2'!K5 -> 0.100176 | C14: =J14-F14*(4-N14)^2 -> 44.899337 | E14: =B14 -> 0.100176 | F14: =0.72-1500*(E14-0.18)^3 -> 1.4829423 | I14: =B14 -> 0.100176 | J14: =60-2200*(I14-0.18)^2 -> 45.981884 | M14: =B14 -> 0.100176 | N14: =4.6+25*(M14-0.09) -> 4.8544
