Workbook

Sheet Диаметр-Мощ-Тяга-Обороты
AU1: n | AV1: D
AH2: x | AI2: y | AN2: =AO2+1 -> 5 | AO2: =IF(IF(VLOOKUP(MIN(AL4:AL10),AL4:AM10,2,0)<0,VLOOKUP(MIN(AL4:AL10),AL4:AN10,3,0),VLOOKUP(MIN(AL4:AL10),AL4:AN10,3,0)-1)=0,1,IF(VLOOKUP(MIN(AL4:AL10),AL4:AM10,2,0)<0,VLOOKUP(MIN(AL4:AL10),AL4:AN10,3,0),VLOOKUP(MIN(AL4:AL10),AL4:AN10,3,0)-1)) -> 4
AH3: 0 | AI3: =E18 -> 127.37951 | AN3: =AO3+1 -> 4 | AO3: =IF(IF(VLOOKUP(MIN(AJ4:AJ10),AJ4:AK10,2,0)<0,VLOOKUP(MIN(AJ4:AJ10),AJ4:AN10,5,0),VLOOKUP(MIN(AJ4:AJ10),AJ4:AN10,5,0)-1)=0,1,IF(VLOOKUP(MIN(AJ4:AJ10),AJ4:AK10,2,0)<0,VLOOKUP(MIN(AJ4:AJ10),AJ4:AN10,5,0),VLOOKUP(MIN(AJ4:AJ10),AJ4:AN10,5,0)-1)) -> 3 | AS3: 0 | AT3: =C18 -> 1.29 | AU3: 2000 | AV3: 2.27
AH4: =D18 -> 50 | AI4: =E18 -> 127.37951 | AJ4: =ABS($B$21-AQ4) -> 1 | AK4: =$B$21-AQ4 -> -1 | AL4: =ABS($C$18-AQ4) -> 1.21 | AM4: =$C$18-AQ4 -> -1.21 | AN4: 1 | AO4: 15.234 | AP4: 0.6591 | AQ4: 2.5 | AS4: =B18 -> 3500 | AT4: =C18 -> 1.29 | AU4: 2250 | AV4: 2
AH5: =D18 -> 50 | AI5: 0 | AJ5: =ABS($B$21-AQ5) -> 0.5 | AK5: =$B$21-AQ5 -> -0.5 | AL5: =ABS($C$18-AQ5) -> 0.71 | AM5: =$C$18-AQ5 -> -0.71 | AN5: 2 | AO5: 14.212 | AP5: 0.635 | AQ5: 2 | AS5: =B18 -> 3500 | AT5: 0 | AU5: 4000 | AV5: 1.13
AJ6: =ABS($B$21-AQ6) -> 0.25 | AK6: =$B$21-AQ6 -> -0.25 | AL6: =ABS($C$18-AQ6) -> 0.46 | AM6: =$C$18-AQ6 -> -0.46 | AN6: 3 | AO6: 12.988 | AP6: 0.6347 | AQ6: 1.75 | AU6: 4500 | AV6: 1
AH7: 0 | AI7: =E21 -> 141.78729 | AJ7: =ABS($B$21-AQ7) -> 0 | AK7: =$B$21-AQ7 -> 0 | AL7: =ABS($C$18-AQ7) -> 0.21 | AM7: =$C$18-AQ7 -> -0.21 | AN7: 4 | AO7: 11.438 | AP7: 0.6435 | AQ7: 1.5 | AS7: 0 | AT7: =B21 -> 1.5
AH8: =D21 -> 50 | AI8: =E21 -> 141.78729 | AJ8: =ABS($B$21-AQ8) -> 0.25 | AK8: =$B$21-AQ8 -> 0.25 | AL8: =ABS($C$18-AQ8) -> 0.04 | AM8: =$C$18-AQ8 -> 0.04 | AN8: 5 | AO8: 9.7904 | AP8: 0.6503 | AQ8: 1.25 | AS8: =C21 -> 3002.2321 | AT8: =B21 -> 1.5
AH9: =D21 -> 50 | AI9: 0 | AJ9: =ABS($B$21-AQ9) -> 0.5 | AK9: =$B$21-AQ9 -> 0.5 | AL9: =ABS($C$18-AQ9) -> 0.29 | AM9: =$C$18-AQ9 -> 0.29 | AN9: 6 | AO9: 8.8281 | AP9: 0.635 | AQ9: 1 | AS9: =C21 -> 3002.2321 | AT9: 0
AJ10: =ABS($B$21-AQ10) -> 0.75 | AK10: =$B$21-AQ10 -> 0.75 | AL10: =ABS($C$18-AQ10) -> 0.54 | AM10: =$C$18-AQ10 -> 0.54 | AN10: 7 | AO10: 7.2852 | AP10: 0.6397 | AQ10: 0.75
AJ13: k1 | AO13: k2
AJ14: =(C18-(VLOOKUP(AN2,AN4:AQ10,4,0)))/((VLOOKUP(AO2,AN4:AQ10,4,0))-(VLOOKUP(AN2,AN4:AQ10,4,0))) -> 0.16 | AO14: =(B21-(VLOOKUP(AN3,AN4:AQ10,4,0)))/((VLOOKUP(AO3,AN4:AQ10,4,0))-(VLOOKUP(AN3,AN4:AQ10,4,0))) -> 0
AJ15: R1 | AL15: R2 | AO15: R1 | AP15: R2
B16: вводим | C16: вычисляется | D16: вводим | E16: вычисляется | AJ16: =(VLOOKUP(AO2,AN4:AP11,2,0))*POWER(D18,(VLOOKUP(AO2,AN4:AP11,3,0))) -> 141.78729 | AL16: =(VLOOKUP(AN2,AN4:AP11,2,0))*POWER(D18,(VLOOKUP(AN2,AN4:AP11,3,0))) -> 124.63518 | AO16: =(VLOOKUP(AO3,AN4:AP11,2,0))*POWER(D21,(VLOOKUP(AO3,AN4:AP11,3,0))) -> 155.55305 | AP16: =(VLOOKUP(AN3,AN4:AP11,2,0))*POWER(D21,(VLOOKUP(AN3,AN4:AP11,3,0))) -> 141.78729
B17: n, об/мин | C17: D, м | D17: N, лс | E17: R, Кгс
B18: 3500 | C18: =ROUND(4687.3*POWER(B18,-1.005),2) -> 1.29 | D18: 50 | E18: =AL16+(AJ16-AL16)*AJ14 -> 127.37951
B20: D, м | C20: n, об/мин | D20: N, лс | E20: R, Кгс
B21: 1.5 | C21: =(B21/4687.3)^(1/-1.005) -> 3002.2321 | D21: 50 | E21: =AP16+(AO16-AP16)*AO14 -> 141.78729

Sheet Мощ-Диаметр-Ширина-Шаг-Угол
L1: диаметр | M1: мощность | N1: частота вращения | O1: относительная ширина | P1: частота вращения | Q1: относит. шаг | R1: шаг | AI1: х | AJ1: у | AV1: n | AW1: 150 | AX1: 500 | AY1: 450 | AZ1: вычисл | BB1: относит. Ширина | BC1: относит. Шаг
O2: мин. 10% макс. 70% | P2: допустимый диапазон | AI2: 0 | AJ2: =(AK18-(AK18-AM18)*AK16) -> 60.304 | AK2: 1 | AM2: =AN2+1 -> 4 | AN2: =IF(IF(VLOOKUP(MIN(AK6:AK12),AK6:AL12,2,0)<0,VLOOKUP(MIN(AK6:AK12),AK6:AM12,3,0),VLOOKUP(MIN(AK6:AK12),AK6:AM12,3,0)-1)=0,1,IF(VLOOKUP(MIN(AK6:AK12),AK6:AL12,2,0)<0,VLOOKUP(MIN(AK6:AK12),AK6:AM12,3,0),VLOOKUP(MIN(AK6:AK12),AK6:AM12,3,0)-1)) -> 3 | AV2: B | AW2: Y2 | AX2: Y2 | AY2: Y2 | AZ2: Y | BA2: tg1 | BB2: B | BC2: h | BE2: B | BF2: Y | BG2: h | BJ2: 2.5 | BK2: 2 | BL2: 1.75 | BM2: 1.5 | BN2: 1.4 | BO2: 1.25 | BP2: 1.1 | BQ2: 1
L3: только для указанных значений D | AI3: =M18 -> 50 | AJ3: =(AK18-(AK18-AM18)*AK16) -> 60.304 | AV3: 10 | AW3: =($AW$1)*BA3 -> 25.5 | AX3: =AX$1*$BA3 -> 85 | AY3: =AY$1*$BA3 -> 76.5 | AZ3: =ROUND((0.000179*POWER(AV3,3))-(0.0239*(AV3*AV3))+(1.3934*AV3)+13.802,2) -> 25.53 | BA3: =ROUND(AZ3/$AW$1,3) -> 0.17 | BB3: 10 | BC3: =ROUND((0.00000611*POWER(BB3,3))-(0.00079*(BB3*BB3))+0.0345*BB3+0.1295,2) -> 0.4 | BE3: 10 | BF3: 25.48 | BG3: 0.4 | BI3: N | BJ3: Y | BK3: Y | BL3: Y | BM3: Y | BO3: Y | BP3: Y | BQ3: Y
M4: вводим | N4: вводим | O4: вычисляется | P4: вычисляется | Q4: вычисляется | R4: вычисляется | AI4: =M18 -> 50 | AJ4: 0 | AR4: D | AS4: tg | AV4: 10.5 | AW4: =($AW$1)*BA4 -> 25.95 | AX4: =($AX$1)*BA4 -> 86.5 | AY4: =AY$1*$BA4 -> 77.85 | AZ4: =ROUND((0.000179*POWER(AV4,3))-(0.0239*(AV4*AV4))+(1.3934*AV4)+13.802,2) -> 26 | BA4: =ROUND(AZ4/$AW$1,3) -> 0.173 | BB4: 10.5 | BC4: =ROUND((0.00000611*POWER(BB4,3))-(0.00079*(BB4*BB4))+0.0345*BB4+0.1295,2) -> 0.41 | BE4: 12.5 | BF4: 28 | BG4: 0.45 | BI4: 10 | BK4: 21.3 | BL4: 27 | BM4: 35 | BN4: =((($BN$2-$BO$2)/($BM$2-$BO$2))*(BO4-BM4))+BM4 -> 43.1 | BO4: 48.5 | BP4: 59 | BQ4: 70
L5: D, м | M5: N, л.с. | N5: n, об/мин | O5: b=B/R, % | P5: n, об/мин | Q5: h=H/D | R5: H/2п | AG5: n max | AH5: n min | AV5: 11 | AW5: =($AW$1)*BA5 -> 26.55 | AX5: =($AX$1)*BA5 -> 88.5 | AY5: =AY$1*$BA5 -> 79.65 | AZ5: =ROUND((0.000179*POWER(AV5,3))-(0.0239*(AV5*AV5))+(1.3934*AV5)+13.802,2) -> 26.48 | BA5: =ROUND(AZ5/$AW$1,3) -> 0.177 | BB5: 11 | BC5: =ROUND((0.00000611*POWER(BB5,3))-(0.00079*(BB5*BB5))+0.0345*BB5+0.1295,2) -> 0.42 | BE5: 16.5 | BF5: 31 | BG5: 0.52 | BI5: 17.5 | BK5: 26 | BL5: 33 | BM5: 43 | BN5: =((($BN$2-$BO$2)/($BM$2-$BO$2))*(BO5-BM5))+BM5 -> 52 | BO5: 58 | BP5: 72.2 | BQ5: 84.6
L6: 1 | M6: 17.5 | N6: 4500 | O6: =IF(ROUND(((AN6*POWER(M6,3))-(AO6*(M6*M6))+(AP6*M6)+AQ6)/(N6*0.1),3)>0.17,VLOOKUP(ROUND(((AN6*POWER(M6,3))-(AO6*(M6*M6))+(AP6*M6)+AQ6)/(N6*0.1),3),$BA$3:$BB$123,2,1),10) -> 12.5 | P6: =CONCATENATE(AG6," - ",AH6) -> 4855 - 2263 | Q6: =VLOOKUP(O6,$BB$3:$BC$123,2,0) -> 0.45 | R6: =(Q6*L6*1000)/(3.1415926*2) -> 71.619726 | AG6: =ROUND(((AN6*POWER(M6,3))-(AO6*(M6*M6))+(AP6*M6)+AQ6)/0.1725*10,0) -> 4855 | AH6: =ROUND(((AN6*POWER(M6,3))-(AO6*(M6*M6))+(AP6*M6)+AQ6)/0.37*10,0) -> 2263 | AI6: 0 | AJ6: =AJ2 -> 60.304 | AK6: =ABS($L$18-AR6) -> 0.5 | AL6: =$L$18-AR6 -> 0.5 | AM6: 7 | AN6: 0.00024 | AO6: 0.0384 | AP6: 2.701 | AQ6: 46.951 | AR6: 1 | AS6: =ROUND(((AN6*POWER(M6,3))-(AO6*(M6*M6))+(AP6*M6)+AQ6)/(N6*0.1),3) -> 0.186 | AV6: 11.5 | AW6: =($AW$1)*BA6 -> 27 | AX6: =($AX$1)*BA6 -> 90 | AY6: =AY$1*$BA6 -> 81 | AZ6: =ROUND((0.000179*POWER(AV6,3))-(0.0239*(AV6*AV6))+(1.3934*AV6)+13.802,2) -> 26.94 | BA6: =ROUND(AZ6/$AW$1,3) -> 0.18 | BB6: 11.5 | BC6: =ROUND((0.00000611*POWER(BB6,3))-(0.00079*(BB6*BB6))+0.0345*BB6+0.1295,2) -> 0.43 | BE6: 20 | BF6: 33.4 | BG6: 0.57 | BI6: 20
L7: 1.1 | M7: 17.5 | N7: 4100 | O7: =IF(ROUND(((AN7*POWER(M7,3))-(AO7*(M7*M7))+(AP7*M7)+AQ7)/(N7*0.1),3)>0.17,VLOOKUP(ROUND(((AN7*POWER(M7,3))-(AO7*(M7*M7))+(AP7*M7)+AQ7)/(N7*0.1),3),$BA$3:$BB$123,2,1),10) -> 10.5 | P7: =CONCATENATE(AG7," - ",AH7) -> 4118 - 1920 | Q7: =VLOOKUP(O7,$BB$3:$BC$123,2,0) -> 0.41 | R7: =(Q7*L7*1000)/(3.1415926*2) -> 71.778881 | AG7: =ROUND(((AN7*POWER(M7,3))-(AO7*(M7*M7))+(AP7*M7)+AQ7)/0.1725*10,0) -> 4118 | AH7: =ROUND(((AN7*POWER(M7,3))-(AO7*(M7*M7))+(AP7*M7)+AQ7)/0.37*10,0) -> 1920 | AI7: =N18*0.1 -> 300 | AJ7: =AJ3 -> 60.304 | AK7: =ABS($L$18-AR7) -> 0.4 | AL7: =$L$18-AR7 -> 0.4 | AM7: 6 | AN7: 0.000157 | AO7: 0.0261 | AP7: 2.1573 | AQ7: 40.441 | AR7: 1.1 | AS7: =ROUND(((AN7*POWER(M7,3))-(AO7*(M7*M7))+(AP7*M7)+AQ7)/(N7*0.1),3) -> 0.173 | AV7: 12 | AW7: =($AW$1)*BA7 -> 27.45 | AX7: =($AX$1)*BA7 -> 91.5 | AY7: =AY$1*$BA7 -> 82.35 | AZ7: =ROUND((0.000179*POWER(AV7,3))-(0.0239*(AV7*AV7))+(1.3934*AV7)+13.802,2) -> 27.39 | BA7: =ROUND(AZ7/$AW$1,3) -> 0.183 | BB7: 12 | BC7: =ROUND((0.00000611*POWER(BB7,3))-(0.00079*(BB7*BB7))+0.0345*BB7+0.1295,2) -> 0.44 | BE7: 25 | BF7: 36.6 | BG7: 0.6 | BI7: 30 | BJ7: 21.8 | BK7: 31.6 | BL7: 39.5 | BM7: 51.5 | BN7: =((($BN$2-$BO$2)/($BM$2-$BO$2))*(BO7-BM7))+BM7 -> 62 | BO7: 69 | BP7: 85.5 | BQ7: 99
L8: 1.25 | M8: 17.5 | N8: 3300 | O8: =IF(ROUND(((AN8*POWER(M8,3))-(AO8*(M8*M8))+(AP8*M8)+AQ8)/(N8*0.1),3)>0.17,VLOOKUP(ROUND(((AN8*POWER(M8,3))-(AO8*(M8*M8))+(AP8*M8)+AQ8)/(N8*0.1),3),$BA$3:$BB$123,2,1),10) -> 10.5 | P8: =CONCATENATE(AG8," - ",AH8) -> 3344 - 1559 | Q8: =VLOOKUP(O8,$BB$3:$BC$123,2,0) -> 0.41 | R8: =(Q8*L8*1000)/(3.1415926*2) -> 81.56691 | AG8: =ROUND(((AN8*POWER(M8,3))-(AO8*(M8*M8))+(AP8*M8)+AQ8)/0.1725*10,0) -> 3344 | AH8: =ROUND(((AN8*POWER(M8,3))-(AO8*(M8*M8))+(AP8*M8)+AQ8)/0.37*10,0) -> 1559 | AI8: =AI7 -> 300 | AJ8: 0 | AK8: =ABS($L$18-AR8) -> 0.25 | AL8: =$L$18-AR8 -> 0.25 | AM8: 5 | AN8: 0.00013 | AO8: 0.0212 | AP8: 1.7141 | AQ8: 33.487 | AR8: 1.25 | AS8: =ROUND(((AN8*POWER(M8,3))-(AO8*(M8*M8))+(AP8*M8)+AQ8)/(N8*0.1),3) -> 0.175 | AV8: 12.5 | AW8: =($AW$1)*BA8 -> 27.9 | AX8: =($AX$1)*BA8 -> 93 | AY8: =AY$1*$BA8 -> 83.7 | AZ8: =ROUND((0.000179*POWER(AV8,3))-(0.0239*(AV8*AV8))+(1.3934*AV8)+13.802,2) -> 27.83 | BA8: =ROUND(AZ8/$AW$1,3) -> 0.186 | BB8: 12.5 | BC8: =ROUND((0.00000611*POWER(BB8,3))-(0.00079*(BB8*BB8))+0.0345*BB8+0.1295,2) -> 0.45 | BE8: 30 | BF8: 39.1 | BG8: 0.61 | BI8: 40 | BJ8: 24 | BK8: 34.5 | BL8: 43 | BM8: 56.5 | BN8: =((($BN$2-$BO$2)/($BM$2-$BO$2))*(BO8-BM8))+BM8 -> 68.5 | BO8: 76.5 | BP8: 93.7 | BQ8: 109
L9: 1.5 | M9: 40 | N9: 3000 | O9: =IF(ROUND(((AN9*POWER(M9,3))-(AO9*(M9*M9))+(AP9*M9)+AQ9)/(N9*0.1),3)>0.17,VLOOKUP(ROUND(((AN9*POWER(M9,3))-(AO9*(M9*M9))+(AP9*M9)+AQ9)/(N9*0.1),3),$BA$3:$BB$123,2,1),10) -> 13 | P9: =CONCATENATE(AG9," - ",AH9) -> 3286 - 1532 | Q9: =VLOOKUP(O9,$BB$3:$BC$123,2,0) -> 0.46 | R9: =(Q9*L9*1000)/(3.1415926*2) -> 109.81691 | AG9: =ROUND(((AN9*POWER(M9,3))-(AO9*(M9*M9))+(AP9*M9)+AQ9)/0.1725*10,0) -> 3286 | AH9: =ROUND(((AN9*POWER(M9,3))-(AO9*(M9*M9))+(AP9*M9)+AQ9)/0.37*10,0) -> 1532 | AK9: =ABS($L$18-AR9) -> 0 | AL9: =$L$18-AR9 -> 0 | AM9: 4 | AN9: 0.000112 | AO9: 0.0201 | AP9: 1.4875 | AQ9: 22.179 | AR9: 1.5 | AS9: =ROUND(((AN9*POWER(M9,3))-(AO9*(M9*M9))+(AP9*M9)+AQ9)/(N9*0.1),3) -> 0.189 | AV9: 13 | AW9: =($AW$1)*BA9 -> 28.2 | AX9: =($AX$1)*BA9 -> 94 | AY9: =AY$1*$BA9 -> 84.6 | AZ9: =ROUND((0.000179*POWER(AV9,3))-(0.0239*(AV9*AV9))+(1.3934*AV9)+13.802,2) -> 28.27 | BA9: =ROUND(AZ9/$AW$1,3) -> 0.188 | BB9: 13 | BC9: =ROUND((0.00000611*POWER(BB9,3))-(0.00079*(BB9*BB9))+0.0345*BB9+0.1295,2) -> 0.46 | BE9: 40 | BF9: 42.73 | BG9: 0.63 | BI9: 50 | BJ9: 25.5 | BK9: 37 | BL9: 47.2 | BM9: 60.5 | BN9: =((($BN$2-$BO$2)/($BM$2-$BO$2))*(BO9-BM9))+BM9 -> 73.7 | BO9: 82.5 | BP9: 104 | BQ9: 116
L10: 1.75 | M10: 50 | N10: 2600 | O10: =IF(ROUND(((AN10*POWER(M10,3))-(AO10*(M10*M10))+(AP10*M10)+AQ10)/(N10*0.1),3)>0.17,VLOOKUP(ROUND(((AN10*POWER(M10,3))-(AO10*(M10*M10))+(AP10*M10)+AQ10)/(N10*0.1),3),$BA$3:$BB$123,2,1),10) -> 11.5 | P10: =CONCATENATE(AG10," - ",AH10) -> 2730 - 1273 | Q10: =VLOOKUP(O10,$BB$3:$BC$123,2,0) -> 0.43 | R10: =(Q10*L10*1000)/(3.1415926*2) -> 119.7641 | AG10: =ROUND(((AN10*POWER(M10,3))-(AO10*(M10*M10))+(AP10*M10)+AQ10)/0.1725*10,0) -> 2730 | AH10: =ROUND(((AN10*POWER(M10,3))-(AO10*(M10*M10))+(AP10*M10)+AQ10)/0.37*10,0) -> 1273 | AK10: =ABS($L$18-AR10) -> 0.25 | AL10: =$L$18-AR10 -> -0.25 | AM10: 3 | AN10: 7e-05 | AO10: 0.0126 | AP10: 1.0365 | AQ10: 18.015 | AR10: 1.75 | AS10: =ROUND(((AN10*POWER(M10,3))-(AO10*(M10*M10))+(AP10*M10)+AQ10)/(N10*0.1),3) -> 0.181 | AV10: 13.5 | AW10: =($AW$1)*BA10 -> 28.65 | AX10: =($AX$1)*BA10 -> 95.5 | AY10: =AY$1*$BA10 -> 85.95 | AZ10: =ROUND((0.000179*POWER(AV10,3))-(0.0239*(AV10*AV10))+(1.3934*AV10)+13.802,2) -> 28.7 | BA10: =ROUND(AZ10/$AW$1,3) -> 0.191 | BB10: 13.5 | BC10: =ROUND((0.00000611*POWER(BB10,3))-(0.00079*(BB10*BB10))+0.0345*BB10+0.1295,2) -> 0.47 | BE10: 50 | BF10: 46 | BG10: 0.65 | BI10: 60 | BJ10: 26.5 | BK10: 38.5 | BL10: 49 | BM10: 63 | BN10: =((($BN$2-$BO$2)/($BM$2-$BO$2))*(BO10-BM10))+BM10 -> 78 | BO10: 88 | BP10: 109 | BQ10: 122
L11: 2 | M11: 17.5 | N11: 1500 | O11: =IF(ROUND(((AN11*POWER(M11,3))-(AO11*(M11*M11))+(AP11*M11)+AQ11)/(N11*0.1),3)>0.17,VLOOKUP(ROUND(((AN11*POWER(M11,3))-(AO11*(M11*M11))+(AP11*M11)+AQ11)/(N11*0.1),3),$BA$3:$BB$123,2,1),10) -> 10.5 | P11: =CONCATENATE(AG11," - ",AH11) -> 1504 - 701 | Q11: =VLOOKUP(O11,$BB$3:$BC$123,2,0) -> 0.41 | R11: =(Q11*L11*1000)/(3.1415926*2) -> 130.50706 | AG11: =ROUND(((AN11*POWER(M11,3))-(AO11*(M11*M11))+(AP11*M11)+AQ11)/0.1725*10,0) -> 1504 | AH11: =ROUND(((AN11*POWER(M11,3))-(AO11*(M11*M11))+(AP11*M11)+AQ11)/0.37*10,0) -> 701 | AK11: =ABS($L$18-AR11) -> 0.5 | AL11: =$L$18-AR11 -> -0.5 | AM11: 2 | AN11: 6.3e-05 | AO11: 0.0117 | AP11: 0.8994 | AQ11: 13.444 | AR11: 2 | AS11: =ROUND(((AN11*POWER(M11,3))-(AO11*(M11*M11))+(AP11*M11)+AQ11)/(N11*0.1),3) -> 0.173 | AV11: 14 | AW11: =($AW$1)*BA11 -> 29.1 | AX11: =($AX$1)*BA11 -> 97 | AY11: =AY$1*$BA11 -> 87.3 | AZ11: =ROUND((0.000179*POWER(AV11,3))-(0.0239*(AV11*AV11))+(1.3934*AV11)+13.802,2) -> 29.12 | BA11: =ROUND(AZ11/$AW$1,3) -> 0.194 | BB11: 14 | BC11: =ROUND((0.00000611*POWER(BB11,3))-(0.00079*(BB11*BB11))+0.0345*BB11+0.1295,2) -> 0.47 | BE11: 60 | BF11: 50.2 | BG11: 0.68
L12: 2.5 | M12: 17.5 | N12: 1000 | O12: =IF(ROUND(((AN12*POWER(M12,3))-(AO12*(M12*M12))+(AP12*M12)+AQ12)/(N12*0.1),3)>0.17,VLOOKUP(ROUND(((AN12*POWER(M12,3))-(AO12*(M12*M12))+(AP12*M12)+AQ12)/(N12*0.1),3),$BA$3:$BB$123,2,1),10) -> 11 | P12: =CONCATENATE(AG12," - ",AH12) -> 1030 - 480 | Q12: =VLOOKUP(O12,$BB$3:$BC$123,2,0) -> 0.42 | R12: =(Q12*L12*1000)/(3.1415926*2) -> 167.11269 | AG12: =ROUND(((AN12*POWER(M12,3))-(AO12*(M12*M12))+(AP12*M12)+AQ12)/0.1725*10,0) -> 1030 | AH12: =ROUND(((AN12*POWER(M12,3))-(AO12*(M12*M12))+(AP12*M12)+AQ12)/0.37*10,0) -> 480 | AK12: =ABS($L$18-AR12) -> 1 | AL12: =$L$18-AR12 -> -1 | AM12: 1 | AN12: 3.3e-05 | AO12: 0.0075 | AP12: 0.6217 | AQ12: 9 | AR12: 2.5 | AS12: =ROUND(((AN12*POWER(M12,3))-(AO12*(M12*M12))+(AP12*M12)+AQ12)/(N12*0.1),3) -> 0.178 | AV12: 14.5 | AW12: =($AW$1)*BA12 -> 29.55 | AX12: =($AX$1)*BA12 -> 98.5 | AY12: =AY$1*$BA12 -> 88.65 | AZ12: =ROUND((0.000179*POWER(AV12,3))-(0.0239*(AV12*AV12))+(1.3934*AV12)+13.802,2) -> 29.53 | BA12: =ROUND(AZ12/$AW$1,3) -> 0.197 | BB12: 14.5 | BC12: =ROUND((0.00000611*POWER(BB12,3))-(0.00079*(BB12*BB12))+0.0345*BB12+0.1295,2) -> 0.48 | BE12: 70 | BF12: 55.6 | BG12: 0.77
AV13: 15 | AW13: =($AW$1)*BA13 -> 30 | AX13: =($AX$1)*BA13 -> 100 | AY13: =AY$1*$BA13 -> 90 | AZ13: =ROUND((0.000179*POWER(AV13,3))-(0.0239*(AV13*AV13))+(1.3934*AV13)+13.802,2) -> 29.93 | BA13: =ROUND(AZ13/$AW$1,3) -> 0.2 | BB13: 15 | BC13: =ROUND((0.00000611*POWER(BB13,3))-(0.00079*(BB13*BB13))+0.0345*BB13+0.1295,2) -> 0.49
AV14: 15.5 | AW14: =($AW$1)*BA14 -> 30.3 | AX14: =($AX$1)*BA14 -> 101 | AY14: =AY$1*$BA14 -> 90.9 | AZ14: =ROUND((0.000179*POWER(AV14,3))-(0.0239*(AV14*AV14))+(1.3934*AV14)+13.802,2) -> 30.32 | BA14: =ROUND(AZ14/$AW$1,3) -> 0.202 | BB14: 15.5 | BC14: =ROUND((0.00000611*POWER(BB14,3))-(0.00079*(BB14*BB14))+0.0345*BB14+0.1295,2) -> 0.5
L15: для любых значений D, N, n в допустимом диапазоне: D (1-2,5), N (10-60), n (1000-7000) | T15: R/D | U15: R, мм | V15: угол b | AK15: к1 | AV15: 16 | AW15: =($AW$1)*BA15 -> 30.75 | AX15: =($AX$1)*BA15 -> 102.5 | AY15: =AY$1*$BA15 -> 92.25 | AZ15: =ROUND((0.000179*POWER(AV15,3))-(0.0239*(AV15*AV15))+(1.3934*AV15)+13.802,2) -> 30.71 | BA15: =ROUND(AZ15/$AW$1,3) -> 0.205 | BB15: 16 | BC15: =ROUND((0.00000611*POWER(BB15,3))-(0.00079*(BB15*BB15))+0.0345*BB15+0.1295,2) -> 0.5
L16: вводим | M16: вводим | N16: вводим | O16: вычисляется | P16: вычисляется | Q16: вычисляется | R16: вычисляется | T16: 0.147 | U16: =$L$18*1000/2*T16 -> 110.25 | V16: =DEGREES(ATAN($R$18/U16)) -> 46.696193 | AK16: =(L18-VLOOKUP(AM2,AM6:AR12,6,0))/(VLOOKUP(AN2,AM6:AR12,6,0)-VLOOKUP(AM2,AM6:AR12,6,0)) -> 0 | AV16: 16.5 | AW16: =($AW$1)*BA16 -> 31.05 | AX16: =($AX$1)*BA16 -> 103.5 | AY16: =AY$1*$BA16 -> 93.15 | AZ16: =ROUND((0.000179*POWER(AV16,3))-(0.0239*(AV16*AV16))+(1.3934*AV16)+13.802,2) -> 31.09 | BA16: =ROUND(AZ16/$AW$1,3) -> 0.207 | BB16: 16.5 | BC16: =ROUND((0.00000611*POWER(BB16,3))-(0.00079*(BB16*BB16))+0.0345*BB16+0.1295,2) -> 0.51
L17: D, м | M17: N, л.с. | N17: n, об/мин | O17: b=B/R, % | P17: n, об/мин | Q17: h=H/D | R17: H/2п | T17: 0.3 | U17: =$L$18*1000/2*T17 -> 225 | V17: =DEGREES(ATAN($R$18/U17)) -> 27.470199 | AK17: Y1 | AM17: Y2 | AV17: 17 | AW17: =($AW$1)*BA17 -> 31.5 | AX17: =($AX$1)*BA17 -> 105 | AY17: =AY$1*$BA17 -> 94.5 | AZ17: =ROUND((0.000179*POWER(AV17,3))-(0.0239*(AV17*AV17))+(1.3934*AV17)+13.802,2) -> 31.46 | BA17: =ROUND(AZ17/$AW$1,3) -> 0.21 | BB17: 17 | BC17: =ROUND((0.00000611*POWER(BB17,3))-(0.00079*(BB17*BB17))+0.0345*BB17+0.1295,2) -> 0.52
L18: 1.5 | M18: 50 | N18: 3000 | O18: =IF((AK18-(AK18-AM18)*AK16)/(N18*0.1)>0.17,VLOOKUP(ROUND((AK18-(AK18-AM18)*AK16)/(N18*0.1),3),BA3:BB123,2,1),10) -> 15 | P18: =CONCATENATE(AG18," - ",AH18) -> 3496 - 1630 | Q18: =VLOOKUP(O18,$BB$3:$BC$123,2,0) -> 0.49 | R18: =(Q18*L18*1000)/(3.1415926*2) -> 116.97889 | T18: 0.45 | U18: =$L$18*1000/2*T18 -> 337.5 | V18: =DEGREES(ATAN($R$18/U18)) -> 19.116526 | AG18: =ROUND(10*(AK18-(AK18-AM18)*AK16)/0.1725,0) -> 3496 | AH18: =ROUND(10*(AK18-(AK18-AM18)*AK16)/0.37,0) -> 1630 | AK18: =ROUND(((VLOOKUP(AM2,AM6:AQ12,2,0)*POWER(M18,3))-(VLOOKUP(AM2,AM6:AQ12,3,0)*(M18*M18))+(VLOOKUP(AM2,AM6:AQ12,4,0)*M18)+VLOOKUP(AM2,AM6:AQ12,5,0)),3) -> 60.304 | AM18: =ROUND(((VLOOKUP(AN2,AM6:AQ12,2,0)*POWER(M18,3))-(VLOOKUP(AN2,AM6:AQ12,3,0)*(M18*M18))+(VLOOKUP(AN2,AM6:AQ12,4,0)*M18)+VLOOKUP(AN2,AM6:AQ12,5,0)),3) -> 47.09 | AV18: 17.5 | AW18: =($AW$1)*BA18 -> 31.8 | AX18: =($AX$1)*BA18 -> 106 | AY18: =AY$1*$BA18 -> 95.4 | AZ18: =ROUND((0.000179*POWER(AV18,3))-(0.0239*(AV18*AV18))+(1.3934*AV18)+13.802,2) -> 31.83 | BA18: =ROUND(AZ18/$AW$1,3) -> 0.212 | BB18: 17.5 | BC18: =ROUND((0.00000611*POWER(BB18,3))-(0.00079*(BB18*BB18))+0.0345*BB18+0.1295,2) -> 0.52
L19: эти данные будут использованы для расчёта параметров сечений и углов их установки! | T19: 0.6 | U19: =$L$18*1000/2*T19 -> 450 | V19: =DEGREES(ATAN($R$18/U19)) -> 14.571698 | AV19: 18 | AW19: =($AW$1)*BA19 -> 32.25 | AX19: =($AX$1)*BA19 -> 107.5 | AY19: =AY$1*$BA19 -> 96.75 | AZ19: =ROUND((0.000179*POWER(AV19,3))-(0.0239*(AV19*AV19))+(1.3934*AV19)+13.802,2) -> 32.18 | BA19: =ROUND(AZ19/$AW$1,3) -> 0.215 | BB19: 18 | BC19: =ROUND((0.00000611*POWER(BB19,3))-(0.00079*(BB19*BB19))+0.0345*BB19+0.1295,2) -> 0.53
T20: 0.75 | U20: =$L$18*1000/2*T20 -> 562.5 | V20: =DEGREES(ATAN($R$18/U20)) -> 11.747922 | AV20: 18.5 | AW20: =($AW$1)*BA20 -> 32.55 | AX20: =($AX$1)*BA20 -> 108.5 | AY20: =AY$1*$BA20 -> 97.65 | AZ20: =ROUND((0.000179*POWER(AV20,3))-(0.0239*(AV20*AV20))+(1.3934*AV20)+13.802,2) -> 32.53 | BA20: =ROUND(AZ20/$AW$1,3) -> 0.217 | BB20: 18.5 | BC20: =ROUND((0.00000611*POWER(BB20,3))-(0.00079*(BB20*BB20))+0.0345*BB20+0.1295,2) -> 0.54
T21: 0.9 | U21: =$L$18*1000/2*T21 -> 675 | V21: =DEGREES(ATAN($R$18/U21)) -> 9.8318239 | AV21: 19 | AW21: =($AW$1)*BA21 -> 32.85 | AX21: =($AX$1)*BA21 -> 109.5 | AY21: =AY$1*$BA21 -> 98.55 | AZ21: =ROUND((0.000179*POWER(AV21,3))-(0.0239*(AV21*AV21))+(1.3934*AV21)+13.802,2) -> 32.88 | BA21: =ROUND(AZ21/$AW$1,3) -> 0.219 | BB21: 19 | BC21: =ROUND((0.00000611*POWER(BB21,3))-(0.00079*(BB21*BB21))+0.0345*BB21+0.1295,2) -> 0.54
T22: 1 | U22: =$L$18*1000/2*T22 -> 750 | V22: =DEGREES(ATAN($R$18/U22)) -> 8.8651013 | AV22: 19.5 | AW22: =($AW$1)*BA22 -> 33.15 | AX22: =($AX$1)*BA22 -> 110.5 | AY22: =AY$1*$BA22 -> 99.45 | AZ22: =ROUND((0.000179*POWER(AV22,3))-(0.0239*(AV22*AV22))+(1.3934*AV22)+13.802,2) -> 33.21 | BA22: =ROUND(AZ22/$AW$1,3) -> 0.221 | BB22: 19.5 | BC22: =ROUND((0.00000611*POWER(BB22,3))-(0.00079*(BB22*BB22))+0.0345*BB22+0.1295,2) -> 0.55
AV23: 20 | AW23: =($AW$1)*BA23 -> 33.6 | AX23: =($AX$1)*BA23 -> 112 | AY23: =AY$1*$BA23 -> 100.8 | AZ23: =ROUND((0.000179*POWER(AV23,3))-(0.0239*(AV23*AV23))+(1.3934*AV23)+13.802,2) -> 33.54 | BA23: =ROUND(AZ23/$AW$1,3) -> 0.224 | BB23: 20 | BC23: =ROUND((0.00000611*POWER(BB23,3))-(0.00079*(BB23*BB23))+0.0345*BB23+0.1295,2) -> 0.55
AV24: 20.5 | AW24: =($AW$1)*BA24 -> 33.9 | AX24: =($AX$1)*BA24 -> 113 | AY24: =AY$1*$BA24 -> 101.7 | AZ24: =ROUND((0.000179*POWER(AV24,3))-(0.0239*(AV24*AV24))+(1.3934*AV24)+13.802,2) -> 33.86 | BA24: =ROUND(AZ24/$AW$1,3) -> 0.226 | BB24: 20.5 | BC24: =ROUND((0.00000611*POWER(BB24,3))-(0.00079*(BB24*BB24))+0.0345*BB24+0.1295,2) -> 0.56
AV25: 21 | AW25: =($AW$1)*BA25 -> 34.2 | AX25: =($AX$1)*BA25 -> 114 | AY25: =AY$1*$BA25 -> 102.6 | AZ25: =ROUND((0.000179*POWER(AV25,3))-(0.0239*(AV25*AV25))+(1.3934*AV25)+13.802,2) -> 34.18 | BA25: =ROUND(AZ25/$AW$1,3) -> 0.228 | BB25: 21 | BC25: =ROUND((0.00000611*POWER(BB25,3))-(0.00079*(BB25*BB25))+0.0345*BB25+0.1295,2) -> 0.56
AV26: 21.5 | AW26: =($AW$1)*BA26 -> 34.5 | AX26: =($AX$1)*BA26 -> 115 | AY26: =AY$1*$BA26 -> 103.5 | AZ26: =ROUND((0.000179*POWER(AV26,3))-(0.0239*(AV26*AV26))+(1.3934*AV26)+13.802,2) -> 34.49 | BA26: =ROUND(AZ26/$AW$1,3) -> 0.23 | BB26: 21.5 | BC26: =ROUND((0.00000611*POWER(BB26,3))-(0.00079*(BB26*BB26))+0.0345*BB26+0.1295,2) -> 0.57
AV27: 22 | AW27: =($AW$1)*BA27 -> 34.8 | AX27: =($AX$1)*BA27 -> 116 | AY27: =AY$1*$BA27 -> 104.4 | AZ27: =ROUND((0.000179*POWER(AV27,3))-(0.0239*(AV27*AV27))+(1.3934*AV27)+13.802,2) -> 34.8 | BA27: =ROUND(AZ27/$AW$1,3) -> 0.232 | BB27: 22 | BC27: =ROUND((0.00000611*POWER(BB27,3))-(0.00079*(BB27*BB27))+0.0345*BB27+0.1295,2) -> 0.57
AV28: 22.5 | AW28: =($AW$1)*BA28 -> 35.1 | AX28: =($AX$1)*BA28 -> 117 | AY28: =AY$1*$BA28 -> 105.3 | AZ28: =ROUND((0.000179*POWER(AV28,3))-(0.0239*(AV28*AV28))+(1.3934*AV28)+13.802,2) -> 35.09 | BA28: =ROUND(AZ28/$AW$1,3) -> 0.234 | BB28: 22.5 | BC28: =ROUND((0.00000611*POWER(BB28,3))-(0.00079*(BB28*BB28))+0.0345*BB28+0.1295,2) -> 0.58
AV29: 23 | AW29: =($AW$1)*BA29 -> 35.4 | AX29: =($AX$1)*BA29 -> 118 | AY29: =AY$1*$BA29 -> 106.2 | AZ29: =ROUND((0.000179*POWER(AV29,3))-(0.0239*(AV29*AV29))+(1.3934*AV29)+13.802,2) -> 35.38 | BA29: =ROUND(AZ29/$AW$1,3) -> 0.236 | BB29: 23 | BC29: =ROUND((0.00000611*POWER(BB29,3))-(0.00079*(BB29*BB29))+0.0345*BB29+0.1295,2) -> 0.58
AV30: 23.5 | AW30: =($AW$1)*BA30 -> 35.7 | AX30: =($AX$1)*BA30 -> 119 | AY30: =AY$1*$BA30 -> 107.1 | AZ30: =ROUND((0.000179*POWER(AV30,3))-(0.0239*(AV30*AV30))+(1.3934*AV30)+13.802,2) -> 35.67 | BA30: =ROUND(AZ30/$AW$1,3) -> 0.238 | BB30: 23.5 | BC30: =ROUND((0.00000611*POWER(BB30,3))-(0.00079*(BB30*BB30))+0.0345*BB30+0.1295,2) -> 0.58
AV31: 24 | AW31: =($AW$1)*BA31 -> 36 | AX31: =($AX$1)*BA31 -> 120 | AY31: =AY$1*$BA31 -> 108 | AZ31: =ROUND((0.000179*POWER(AV31,3))-(0.0239*(AV31*AV31))+(1.3934*AV31)+13.802,2) -> 35.95 | BA31: =ROUND(AZ31/$AW$1,3) -> 0.24 | BB31: 24 | BC31: =ROUND((0.00000611*POWER(BB31,3))-(0.00079*(BB31*BB31))+0.0345*BB31+0.1295,2) -> 0.59
AV32: 24.5 | AW32: =($AW$1)*BA32 -> 36.3 | AX32: =($AX$1)*BA32 -> 121 | AY32: =AY$1*$BA32 -> 108.9 | AZ32: =ROUND((0.000179*POWER(AV32,3))-(0.0239*(AV32*AV32))+(1.3934*AV32)+13.802,2) -> 36.23 | BA32: =ROUND(AZ32/$AW$1,3) -> 0.242 | BB32: 24.5 | BC32: =ROUND((0.00000611*POWER(BB32,3))-(0.00079*(BB32*BB32))+0.0345*BB32+0.1295,2) -> 0.59
AV33: 25 | AW33: =($AW$1)*BA33 -> 36.45 | AX33: =($AX$1)*BA33 -> 121.5 | AY33: =AY$1*$BA33 -> 109.35 | AZ33: =ROUND((0.000179*POWER(AV33,3))-(0.0239*(AV33*AV33))+(1.3934*AV33)+13.802,2) -> 36.5 | BA33: =ROUND(AZ33/$AW$1,3) -> 0.243 | BB33: 25 | BC33: =ROUND((0.00000611*POWER(BB33,3))-(0.00079*(BB33*BB33))+0.0345*BB33+0.1295,2) -> 0.59
AV34: 25.5 | AW34: =($AW$1)*BA34 -> 36.75 | AX34: =($AX$1)*BA34 -> 122.5 | AY34: =AY$1*$BA34 -> 110.25 | AZ34: =ROUND((0.000179*POWER(AV34,3))-(0.0239*(AV34*AV34))+(1.3934*AV34)+13.802,2) -> 36.76 | BA34: =ROUND(AZ34/$AW$1,3) -> 0.245 | BB34: 25.5 | BC34: =ROUND((0.00000611*POWER(BB34,3))-(0.00079*(BB34*BB34))+0.0345*BB34+0.1295,2) -> 0.6
... AV123: 70 | AW123: =($AW$1)*BA123 -> 55.65 | AX123: =($AX$1)*BA123 -> 185.5 | AY123: =AY$1*$BA123 -> 166.95 | AZ123: =ROUND((0.000179*POWER(AV123,3))-(0.0239*(AV123*AV123))+(1.3934*AV123)+13.802,2) -> 55.63 | BA123: =ROUND(AZ123/$AW$1,3) -> 0.371 | BB123: 70 | BC123: =ROUND((0.00000611*POWER(BB123,3))-(0.00079*(BB123*BB123))+0.0345*BB123+0.1295,2) -> 0.77

Sheet Сеч 0,147
T1: ширина | U1: толщина
O2: +Y сглаж | P2: X | Q2: Y | R2: X1 | S2: Y1 | T2: B, (16,5%) | U2: С,(16,5%) r,% | V2: В мм | W2: B % | X2: B но ОХ | Z2: С,X% r,% | AA2: С, мм | AB2: угол a | AC2: угол a+b | AD2: угол a-b | AE2: Гип.
O4: 0 | P4: =ROUND(IF(R4<0,-AE4*COS(RADIANS(AD4)),AE4*COS(RADIANS(AC4))),1) -> -32.3 | Q4: =ROUND(IF(R4<0,AE4*SIN(RADIANS(AD4)),AE4*SIN(RADIANS($AC4)))+O4,1) -> -19.4 | R4: =IF(X4<0,-AE4*COS(RADIANS(AB4)),AE4*COS(RADIANS(AB4))) -> -36.295455 | S4: =IF(X4<0,AE4*SIN(RADIANS(AB4)),AE4*SIN(RADIANS(AB4))) -> 10.227273 | T4: 1.35 | U4: 1.5 | V4: =IF(Y4=1,$G$26*W4/100,V3+$G$26*W4/100) -> 9.2045455 | W4: =T4*$G$22/16.5 -> 1.2272727 | X4: =V4-$G$25/2 -> -36.295455 | Y4: 2 | Z4: =U4*$G$22/16.5 -> 1.3636364 | AA4: =$G$26*Z4/100 -> 10.227273 | AB4: =DEGREES(ATAN(AA4/(ABS(X4)))) -> 15.736686 | AC4: =DEGREES(ATAN(AA4/(ABS(X4))))+$G$24 -> 62.432879 | AD4: =DEGREES(ATAN(AA4/(ABS(X4))))-$G$24 -> -30.959507 | AE4: =SQRT(AA4*AA4+X4*X4) -> 37.708847
O5: 0 | P5: =ROUND(IF(R5<0,-AE5*COS(RADIANS(AD5)),AE5*COS(RADIANS(AC5))),1) -> -29 | Q5: =ROUND(IF(R5<0,AE5*SIN(RADIANS(AD5)),AE5*SIN(RADIANS($AC5)))+O5,1) -> -9.9 | R5: =IF(X5<0,-AE5*COS(RADIANS(AB5)),AE5*COS(RADIANS(AB5))) -> -27.090909 | S5: =IF(X5<0,AE5*SIN(RADIANS(AB5)),AE5*SIN(RADIANS(AB5))) -> 14.318182 | T5: 1.35 | U5: 2.1 | V5: =IF(Y5=1,$G$26*W5/100,V4+$G$26*W5/100) -> 18.409091 | W5: =T5*$G$22/16.5 -> 1.2272727 | X5: =V5-$G$25/2 -> -27.090909 | Y5: 3 | Z5: =U5*$G$22/16.5 -> 1.9090909 | AA5: =$G$26*Z5/100 -> 14.318182 | AB5: =DEGREES(ATAN(AA5/(ABS(X5)))) -> 27.857504 | AC5: =DEGREES(ATAN(AA5/(ABS(X5))))+$G$24 -> 74.553697 | AD5: =DEGREES(ATAN(AA5/(ABS(X5))))-$G$24 -> -18.838689 | AE5: =SQRT(AA5*AA5+X5*X5) -> 30.641927
O6: 0 | P6: =ROUND(IF(R6<0,-AE6*COS(RADIANS(AD6)),AE6*COS(RADIANS(AC6))),1) -> -24.7 | Q6: =ROUND(IF(R6<0,AE6*SIN(RADIANS(AD6)),AE6*SIN(RADIANS($AC6)))+O6,1) -> -1.3 | R6: =IF(X6<0,-AE6*COS(RADIANS(AB6)),AE6*COS(RADIANS(AB6))) -> -17.886364 | S6: =IF(X6<0,AE6*SIN(RADIANS(AB6)),AE6*SIN(RADIANS(AB6))) -> 17.045455 | T6: 1.35 | U6: 2.5 | V6: =IF(Y6=1,$G$26*W6/100,V5+$G$26*W6/100) -> 27.613636 | W6: =T6*$G$22/16.5 -> 1.2272727 | X6: =V6-$G$25/2 -> -17.886364 | Y6: 4 | Z6: =U6*$G$22/16.5 -> 2.2727273 | AA6: =$G$26*Z6/100 -> 17.045455 | AB6: =DEGREES(ATAN(AA6/(ABS(X6)))) -> 43.620993 | AC6: =DEGREES(ATAN(AA6/(ABS(X6))))+$G$24 -> 90.317186 | AD6: =DEGREES(ATAN(AA6/(ABS(X6))))-$G$24 -> -3.0752006 | AE6: =SQRT(AA6*AA6+X6*X6) -> 24.707681
O7: 0 | P7: =ROUND(IF(R7<0,-AE7*COS(RADIANS(AD7)),AE7*COS(RADIANS(AC7))),1) -> -19.4 | Q7: =ROUND(IF(R7<0,AE7*SIN(RADIANS(AD7)),AE7*SIN(RADIANS($AC7)))+O7,1) -> 6.3 | R7: =IF(X7<0,-AE7*COS(RADIANS(AB7)),AE7*COS(RADIANS(AB7))) -> -8.6818182 | S7: =IF(X7<0,AE7*SIN(RADIANS(AB7)),AE7*SIN(RADIANS(AB7))) -> 18.409091 | T7: 1.35 | U7: 2.7 | V7: =IF(Y7=1,$G$26*W7/100,V6+$G$26*W7/100) -> 36.818182 | W7: =T7*$G$22/16.5 -> 1.2272727 | X7: =V7-$G$25/2 -> -8.6818182 | Y7: 5 | Z7: =U7*$G$22/16.5 -> 2.4545455 | AA7: =$G$26*Z7/100 -> 18.409091 | AB7: =DEGREES(ATAN(AA7/(ABS(X7)))) -> 64.751204 | AC7: =DEGREES(ATAN(AA7/(ABS(X7))))+$G$24 -> 111.4474 | AD7: =DEGREES(ATAN(AA7/(ABS(X7))))-$G$24 -> 18.05501 | AE7: =SQRT(AA7*AA7+X7*X7) -> 20.353589
O8: 0 | P8: =ROUND(IF(R8<0,-AE8*COS(RADIANS(AD8)),AE8*COS(RADIANS(AC8))),1) -> -13.3 | Q8: =ROUND(IF(R8<0,AE8*SIN(RADIANS(AD8)),AE8*SIN(RADIANS($AC8)))+O8,1) -> 13.2 | R8: =IF(X8<0,-AE8*COS(RADIANS(AB8)),AE8*COS(RADIANS(AB8))) -> 0.52272727 | S8: =IF(X8<0,AE8*SIN(RADIANS(AB8)),AE8*SIN(RADIANS(AB8))) -> 18.75 | T8: 1.35 | U8: 2.75 | V8: =IF(Y8=1,$G$26*W8/100,V7+$G$26*W8/100) -> 46.022727 | W8: =T8*$G$22/16.5 -> 1.2272727 | X8: =V8-$G$25/2 -> 0.52272727 | Y8: 6 | Z8: =U8*$G$22/16.5 -> 2.5 | AA8: =$G$26*Z8/100 -> 18.75 | AB8: =DEGREES(ATAN(AA8/(ABS(X8)))) -> 88.403077 | AC8: =DEGREES(ATAN(AA8/(ABS(X8))))+$G$24 -> 135.09927 | AD8: =DEGREES(ATAN(AA8/(ABS(X8))))-$G$24 -> 41.706884 | AE8: =SQRT(AA8*AA8+X8*X8) -> 18.757285
O9: 0 | P9: =ROUND(IF(R9<0,-AE9*COS(RADIANS(AD9)),AE9*COS(RADIANS(AC9))),1) -> -6.2 | Q9: =ROUND(IF(R9<0,AE9*SIN(RADIANS(AD9)),AE9*SIN(RADIANS($AC9)))+O9,1) -> 19.2 | R9: =IF(X9<0,-AE9*COS(RADIANS(AB9)),AE9*COS(RADIANS(AB9))) -> 9.7272727 | S9: =IF(X9<0,AE9*SIN(RADIANS(AB9)),AE9*SIN(RADIANS(AB9))) -> 17.727273 | T9: 1.35 | U9: 2.6 | V9: =IF(Y9=1,$G$26*W9/100,V8+$G$26*W9/100) -> 55.227273 | W9: =T9*$G$22/16.5 -> 1.2272727 | X9: =V9-$G$25/2 -> 9.7272727 | Y9: 7 | Z9: =U9*$G$22/16.5 -> 2.3636364 | AA9: =$G$26*Z9/100 -> 17.727273 | AB9: =DEGREES(ATAN(AA9/(ABS(X9)))) -> 61.245633 | AC9: =DEGREES(ATAN(AA9/(ABS(X9))))+$G$24 -> 107.94183 | AD9: =DEGREES(ATAN(AA9/(ABS(X9))))-$G$24 -> 14.54944 | AE9: =SQRT(AA9*AA9+X9*X9) -> 20.220683
O10: 0 | P10: =ROUND(IF(R10<0,-AE10*COS(RADIANS(AD10)),AE10*COS(RADIANS(AC10))),1) -> 1.6 | Q10: =ROUND(IF(R10<0,AE10*SIN(RADIANS(AD10)),AE10*SIN(RADIANS($AC10)))+O10,1) -> 24.5 | R10: =IF(X10<0,-AE10*COS(RADIANS(AB10)),AE10*COS(RADIANS(AB10))) -> 18.931818 | S10: =IF(X10<0,AE10*SIN(RADIANS(AB10)),AE10*SIN(RADIANS(AB10))) -> 15.681818 | T10: 1.35 | U10: 2.3 | V10: =IF(Y10=1,$G$26*W10/100,V9+$G$26*W10/100) -> 64.431818 | W10: =T10*$G$22/16.5 -> 1.2272727 | X10: =V10-$G$25/2 -> 18.931818 | Y10: 8 | Z10: =U10*$G$22/16.5 -> 2.0909091 | AA10: =$G$26*Z10/100 -> 15.681818 | AB10: =DEGREES(ATAN(AA10/(ABS(X10)))) -> 39.636017 | AC10: =DEGREES(ATAN(AA10/(ABS(X10))))+$G$24 -> 86.33221 | AD10: =DEGREES(ATAN(AA10/(ABS(X10))))-$G$24 -> -7.0601759 | AE10: =SQRT(AA10*AA10+X10*X10) -> 24.583189
O11: 0.5 | P11: =ROUND(IF(R11<0,-AE11*COS(RADIANS(AD11)),AE11*COS(RADIANS(AC11))),1) -> 10.4 | Q11: =ROUND(IF(R11<0,AE11*SIN(RADIANS(AD11)),AE11*SIN(RADIANS($AC11)))+O11,1) -> 29.4 | R11: =IF(X11<0,-AE11*COS(RADIANS(AB11)),AE11*COS(RADIANS(AB11))) -> 28.136364 | S11: =IF(X11<0,AE11*SIN(RADIANS(AB11)),AE11*SIN(RADIANS(AB11))) -> 12.272727 | T11: 1.35 | U11: 1.8 | V11: =IF(Y11=1,$G$26*W11/100,V10+$G$26*W11/100) -> 73.636364 | W11: =T11*$G$22/16.5 -> 1.2272727 | X11: =V11-$G$25/2 -> 28.136364 | Y11: 9 | Z11: =U11*$G$22/16.5 -> 1.6363636 | AA11: =$G$26*Z11/100 -> 12.272727 | AB11: =DEGREES(ATAN(AA11/(ABS(X11)))) -> 23.566223 | AC11: =DEGREES(ATAN(AA11/(ABS(X11))))+$G$24 -> 70.262416 | AD11: =DEGREES(ATAN(AA11/(ABS(X11))))-$G$24 -> -23.12997 | AE11: =SQRT(AA11*AA11+X11*X11) -> 30.696495
O12: 0 | P12: =ROUND(IF(R12<0,-AE12*COS(RADIANS(AD12)),AE12*COS(RADIANS(AC12))),1) -> 19.2 | Q12: =ROUND(IF(R12<0,AE12*SIN(RADIANS(AD12)),AE12*SIN(RADIANS($AC12)))+O12,1) -> 33.3 | R12: =IF(X12<0,-AE12*COS(RADIANS(AB12)),AE12*COS(RADIANS(AB12))) -> 37.340909 | S12: =IF(X12<0,AE12*SIN(RADIANS(AB12)),AE12*SIN(RADIANS(AB12))) -> 8.8636364 | T12: 1.35 | U12: 1.3 | V12: =IF(Y12=1,$G$26*W12/100,V11+$G$26*W12/100) -> 82.840909 | W12: =T12*$G$22/16.5 -> 1.2272727 | X12: =V12-$G$25/2 -> 37.340909 | Y12: 10 | Z12: =U12*$G$22/16.5 -> 1.1818182 | AA12: =$G$26*Z12/100 -> 8.8636364 | AB12: =DEGREES(ATAN(AA12/(ABS(X12)))) -> 13.353203 | AC12: =DEGREES(ATAN(AA12/(ABS(X12))))+$G$24 -> 60.049397 | AD12: =DEGREES(ATAN(AA12/(ABS(X12))))-$G$24 -> -33.34299 | AE12: =SQRT(AA12*AA12+X12*X12) -> 38.378478
O13: 0 | P13: =ROUND(IF(R13<0,-AE13*COS(RADIANS(AD13)),AE13*COS(RADIANS(AC13))),1) -> 23.3 | Q13: =ROUND(IF(R13<0,AE13*SIN(RADIANS(AD13)),AE13*SIN(RADIANS($AC13)))+O13,1) -> 34.7 | R13: =IF(X13<0,-AE13*COS(RADIANS(AB13)),AE13*COS(RADIANS(AB13))) -> 41.254545 | S13: =IF(X13<0,AE13*SIN(RADIANS(AB13)),AE13*SIN(RADIANS(AB13))) -> 6.8181818 | T13: 0.574 | U13: 1 | V13: =IF(Y13=1,$G$26*W13/100,V12+$G$26*W13/100) -> 86.754545 | W13: =T13*$G$22/16.5 -> 0.52181818 | X13: =V13-$G$25/2 -> 41.254545 | Y13: 11 | Z13: =U13*$G$22/16.5 -> 0.90909091 | AA13: =$G$26*Z13/100 -> 6.8181818 | AB13: =DEGREES(ATAN(AA13/(ABS(X13)))) -> 9.3845026 | AC13: =DEGREES(ATAN(AA13/(ABS(X13))))+$G$24 -> 56.080696 | AD13: =DEGREES(ATAN(AA13/(ABS(X13))))-$G$24 -> -37.311691 | AE13: =SQRT(AA13*AA13+X13*X13) -> 41.814174
O14: 0 | P14: =P36 -> 31.206935 | Q14: =Q36 -> 33.111587 | R14: =IF(X14<0,-AE14*COS(RADIANS(AB14)),AE14*COS(RADIANS(AB14))) -> 45.5 | S14: =IF(X14<0,AE14*SIN(RADIANS(AB14)),AE14*SIN(RADIANS(AB14))) -> 0 | U14: 1 | V14: =G25 -> 91 | W14: =T14*$G$22/16.5 -> 0 | X14: =V14-$G$25/2 -> 45.5 | Y14: 12 | Z14: =U14*$G$22/16.5 -> 0.90909091 | AA14: =AA13-(AA13-AA15)/2 -> 0 | AB14: =DEGREES(ATAN(AA14/(ABS(X14)))) -> 0 | AC14: =DEGREES(ATAN(AA14/(ABS(X14))))+$G$24 -> 46.696193 | AD14: =DEGREES(ATAN(AA14/(ABS(X14))))-$G$24 -> -46.696193 | AE14: =SQRT(AA14*AA14+X14*X14) -> 45.5
O15: 0 | P15: =ROUND(IF(R15<0,-AE15*COS(RADIANS(AD15)),AE15*COS(RADIANS(AC15))),1) -> 33.5 | Q15: =ROUND(IF(R15<0,AE15*SIN(RADIANS(AD15)),AE15*SIN(RADIANS($AC15)))+O15,1) -> 25.6 | R15: =IF(X15<0,-AE15*COS(RADIANS(AB15)),AE15*COS(RADIANS(AB15))) -> 41.586364 | S15: =IF(X15<0,AE15*SIN(RADIANS(AB15)),AE15*SIN(RADIANS(AB15))) -> -6.8181818 | T15: 0.574 | U15: =-U13 -> -1 | V15: =IF(Y15=11,$G$25-$G$26*W15/100,V14-$G$26*W15/100) -> 87.086364 | W15: =T15*$G$22/16.5 -> 0.52181818 | X15: =V15-$G$25/2 -> 41.586364 | Y15: 11 | Z15: =U15*$G$22/16.5 -> -0.90909091 | AA15: =$G$26*Z15/100 -> -6.8181818 | AB15: =DEGREES(ATAN(AA15/(ABS(X15)))) -> -9.3109399 | AC15: =DEGREES(ATAN(AA15/(ABS(X15))))+$G$24 -> 37.385253 | AD15: =DEGREES(ATAN(AA15/(ABS(X15))))-$G$24 -> -56.007133 | AE15: =SQRT(AA15*AA15+X15*X15) -> 42.141586
O16: 0 | P16: =ROUND(IF(R16<0,-AE16*COS(RADIANS(AD16)),AE16*COS(RADIANS(AC16))),1) -> 32.3 | Q16: =ROUND(IF(R16<0,AE16*SIN(RADIANS(AD16)),AE16*SIN(RADIANS($AC16)))+O16,1) -> 21.3 | R16: =IF(X16<0,-AE16*COS(RADIANS(AB16)),AE16*COS(RADIANS(AB16))) -> 37.672727 | S16: =IF(X16<0,AE16*SIN(RADIANS(AB16)),AE16*SIN(RADIANS(AB16))) -> -8.8636364 | T16: 0.574 | U16: =-U12 -> -1.3 | V16: =IF(Y16=11,$G$25-$G$26*W16/100,V15-$G$26*W16/100) -> 83.172727 | W16: =T16*$G$22/16.5 -> 0.52181818 | X16: =V16-$G$25/2 -> 37.672727 | Y16: 10 | Z16: =U16*$G$22/16.5 -> -1.1818182 | AA16: =$G$26*Z16/100 -> -8.8636364 | AB16: =DEGREES(ATAN(AA16/(ABS(X16)))) -> -13.239749 | AC16: =DEGREES(ATAN(AA16/(ABS(X16))))+$G$24 -> 33.456444 | AD16: =DEGREES(ATAN(AA16/(ABS(X16))))-$G$24 -> -59.935942 | AE16: =SQRT(AA16*AA16+X16*X16) -> 38.701401
O17: -0.5 | P17: =ROUND(IF(R17<0,-AE17*COS(RADIANS(AD17)),AE17*COS(RADIANS(AC17))),1) -> 28.5 | Q17: =ROUND(IF(R17<0,AE17*SIN(RADIANS(AD17)),AE17*SIN(RADIANS($AC17)))+O17,1) -> 11.8 | R17: =IF(X17<0,-AE17*COS(RADIANS(AB17)),AE17*COS(RADIANS(AB17))) -> 28.468182 | S17: =IF(X17<0,AE17*SIN(RADIANS(AB17)),AE17*SIN(RADIANS(AB17))) -> -12.272727 | T17: 1.35 | U17: =-U11 -> -1.8 | V17: =IF(Y17=11,$G$25-$G$26*W17/100,V16-$G$26*W17/100) -> 73.968182 | W17: =T17*$G$22/16.5 -> 1.2272727 | X17: =V17-$G$25/2 -> 28.468182 | Y17: 9 | Z17: =U17*$G$22/16.5 -> -1.6363636 | AA17: =$G$26*Z17/100 -> -12.272727 | AB17: =DEGREES(ATAN(AA17/(ABS(X17)))) -> -23.321034 | AC17: =DEGREES(ATAN(AA17/(ABS(X17))))+$G$24 -> 23.375159 | AD17: =DEGREES(ATAN(AA17/(ABS(X17))))-$G$24 -> -70.017227 | AE17: =SQRT(AA17*AA17+X17*X17) -> 31.000923
O18: 0 | P18: =ROUND(IF(R18<0,-AE18*COS(RADIANS(AD18)),AE18*COS(RADIANS(AC18))),1) -> 24.6 | Q18: =ROUND(IF(R18<0,AE18*SIN(RADIANS(AD18)),AE18*SIN(RADIANS($AC18)))+O18,1) -> 3.3 | R18: =IF(X18<0,-AE18*COS(RADIANS(AB18)),AE18*COS(RADIANS(AB18))) -> 19.263636 | S18: =IF(X18<0,AE18*SIN(RADIANS(AB18)),AE18*SIN(RADIANS(AB18))) -> -15.681818 | T18: 1.35 | U18: =-U10 -> -2.3 | V18: =IF(Y18=11,$G$25-$G$26*W18/100,V17-$G$26*W18/100) -> 64.763636 | W18: =T18*$G$22/16.5 -> 1.2272727 | X18: =V18-$G$25/2 -> 19.263636 | Y18: 8 | Z18: =U18*$G$22/16.5 -> -2.0909091 | AA18: =$G$26*Z18/100 -> -15.681818 | AB18: =DEGREES(ATAN(AA18/(ABS(X18)))) -> -39.147769 | AC18: =DEGREES(ATAN(AA18/(ABS(X18))))+$G$24 -> 7.5484247 | AD18: =DEGREES(ATAN(AA18/(ABS(X18))))-$G$24 -> -85.843962 | AE18: =SQRT(AA18*AA18+X18*X18) -> 24.839628
O19: 0 | P19: =ROUND(IF(R19<0,-AE19*COS(RADIANS(AD19)),AE19*COS(RADIANS(AC19))),1) -> 19.8 | Q19: =ROUND(IF(R19<0,AE19*SIN(RADIANS(AD19)),AE19*SIN(RADIANS($AC19)))+O19,1) -> -4.8 | R19: =IF(X19<0,-AE19*COS(RADIANS(AB19)),AE19*COS(RADIANS(AB19))) -> 10.059091 | S19: =IF(X19<0,AE19*SIN(RADIANS(AB19)),AE19*SIN(RADIANS(AB19))) -> -17.727273 | T19: 1.35 | U19: =-U9 -> -2.6 | V19: =IF(Y19=11,$G$25-$G$26*W19/100,V18-$G$26*W19/100) -> 55.559091 | W19: =T19*$G$22/16.5 -> 1.2272727 | X19: =V19-$G$25/2 -> 10.059091 | Y19: 7 | Z19: =U19*$G$22/16.5 -> -2.3636364 | AA19: =$G$26*Z19/100 -> -17.727273 | AB19: =DEGREES(ATAN(AA19/(ABS(X19)))) -> -60.427868 | AC19: =DEGREES(ATAN(AA19/(ABS(X19))))+$G$24 -> -13.731675 | AD19: =DEGREES(ATAN(AA19/(ABS(X19))))-$G$24 -> -107.12406 | AE19: =SQRT(AA19*AA19+X19*X19) -> 20.382382
O20: 0 | P20: =ROUND(IF(R20<0,-AE20*COS(RADIANS(AD20)),AE20*COS(RADIANS(AC20))),1) -> 14.2 | Q20: =ROUND(IF(R20<0,AE20*SIN(RADIANS(AD20)),AE20*SIN(RADIANS($AC20)))+O20,1) -> -12.2 | R20: =IF(X20<0,-AE20*COS(RADIANS(AB20)),AE20*COS(RADIANS(AB20))) -> 0.85454545 | S20: =IF(X20<0,AE20*SIN(RADIANS(AB20)),AE20*SIN(RADIANS(AB20))) -> -18.75 | T20: 1.35 | U20: -2.75 | V20: =IF(Y20=11,$G$25-$G$26*W20/100,V19-$G$26*W20/100) -> 46.354545 | W20: =T20*$G$22/16.5 -> 1.2272727 | X20: =V20-$G$25/2 -> 0.85454545 | Y20: 6 | Z20: =U20*$G$22/16.5 -> -2.5 | AA20: =$G$26*Z20/100 -> -18.75 | AB20: =DEGREES(ATAN(AA20/(ABS(X20)))) -> -87.390507 | AC20: =DEGREES(ATAN(AA20/(ABS(X20))))+$G$24 -> -40.694314 | AD20: =DEGREES(ATAN(AA20/(ABS(X20))))-$G$24 -> -134.0867 | AE20: =SQRT(AA20*AA20+X20*X20) -> 18.769463
B21: R/D | C21: R, мм | D21: угол b | O21: 0 | P21: =ROUND(IF(R21<0,-AE21*COS(RADIANS(AD21)),AE21*COS(RADIANS(AC21))),1) -> 7.7 | Q21: =ROUND(IF(R21<0,AE21*SIN(RADIANS(AD21)),AE21*SIN(RADIANS($AC21)))+O21,1) -> -18.7 | R21: =IF(X21<0,-AE21*COS(RADIANS(AB21)),AE21*COS(RADIANS(AB21))) -> -8.35 | S21: =IF(X21<0,AE21*SIN(RADIANS(AB21)),AE21*SIN(RADIANS(AB21))) -> -18.409091 | T21: 1.35 | U21: =-U7 -> -2.7 | V21: =IF(Y21=11,$G$25-$G$26*W21/100,V20-$G$26*W21/100) -> 37.15 | W21: =T21*$G$22/16.5 -> 1.2272727 | X21: =V21-$G$25/2 -> -8.35 | Y21: 5 | Z21: =U21*$G$22/16.5 -> -2.4545455 | AA21: =$G$26*Z21/100 -> -18.409091 | AB21: =DEGREES(ATAN(AA21/(ABS(X21)))) -> -65.601895 | AC21: =DEGREES(ATAN(AA21/(ABS(X21))))+$G$24 -> -18.905701 | AD21: =DEGREES(ATAN(AA21/(ABS(X21))))-$G$24 -> -112.29809 | AE21: =SQRT(AA21*AA21+X21*X21) -> 20.21428
B22: ='Мощ-Диаметр-Ширина-Шаг-Угол'!T16 -> 0.147 | C22: ='Мощ-Диаметр-Ширина-Шаг-Угол'!U16 -> 110.25 | D22: ='Мощ-Диаметр-Ширина-Шаг-Угол'!V16 -> 46.696193 | F22: Ширина% | G22: ='Мощ-Диаметр-Ширина-Шаг-Угол'!O18 -> 15 | O22: 0 | P22: =ROUND(IF(R22<0,-AE22*COS(RADIANS(AD22)),AE22*COS(RADIANS(AC22))),1) -> 0.4 | Q22: =ROUND(IF(R22<0,AE22*SIN(RADIANS(AD22)),AE22*SIN(RADIANS($AC22)))+O22,1) -> -24.5 | R22: =IF(X22<0,-AE22*COS(RADIANS(AB22)),AE22*COS(RADIANS(AB22))) -> -17.554545 | S22: =IF(X22<0,AE22*SIN(RADIANS(AB22)),AE22*SIN(RADIANS(AB22))) -> -17.045455 | T22: 1.35 | U22: =-U6 -> -2.5 | V22: =IF(Y22=11,$G$25-$G$26*W22/100,V21-$G$26*W22/100) -> 27.945455 | W22: =T22*$G$22/16.5 -> 1.2272727 | X22: =V22-$G$25/2 -> -17.554545 | Y22: 4 | Z22: =U22*$G$22/16.5 -> -2.2727273 | AA22: =$G$26*Z22/100 -> -17.045455 | AB22: =DEGREES(ATAN(AA22/(ABS(X22)))) -> -44.157033 | AC22: =DEGREES(ATAN(AA22/(ABS(X22))))+$G$24 -> 2.5391601 | AD22: =DEGREES(ATAN(AA22/(ABS(X22))))-$G$24 -> -90.853226 | AE22: =SQRT(AA22*AA22+X22*X22) -> 24.468543
B23: ='Мощ-Диаметр-Ширина-Шаг-Угол'!T17 -> 0.3 | C23: ='Мощ-Диаметр-Ширина-Шаг-Угол'!U17 -> 225 | D23: ='Мощ-Диаметр-Ширина-Шаг-Угол'!V17 -> 27.470199 | F23: R/D | G23: =B22 -> 0.147 | I23: крутка сечения (под вашу ответственность!)) | O23: 0 | P23: =ROUND(IF(R23<0,-AE23*COS(RADIANS(AD23)),AE23*COS(RADIANS(AC23))),1) -> -7.9 | Q23: =ROUND(IF(R23<0,AE23*SIN(RADIANS(AD23)),AE23*SIN(RADIANS($AC23)))+O23,1) -> -29.3 | R23: =IF(X23<0,-AE23*COS(RADIANS(AB23)),AE23*COS(RADIANS(AB23))) -> -26.759091 | S23: =IF(X23<0,AE23*SIN(RADIANS(AB23)),AE23*SIN(RADIANS(AB23))) -> -14.318182 | T23: 1.35 | U23: =-U5 -> -2.1 | V23: =IF(Y23=11,$G$25-$G$26*W23/100,V22-$G$26*W23/100) -> 18.740909 | W23: =T23*$G$22/16.5 -> 1.2272727 | X23: =V23-$G$25/2 -> -26.759091 | Y23: 3 | Z23: =U23*$G$22/16.5 -> -1.9090909 | AA23: =$G$26*Z23/100 -> -14.318182 | AB23: =DEGREES(ATAN(AA23/(ABS(X23)))) -> -28.150224 | AC23: =DEGREES(ATAN(AA23/(ABS(X23))))+$G$24 -> 18.545969 | AD23: =DEGREES(ATAN(AA23/(ABS(X23))))-$G$24 -> -74.846417 | AE23: =SQRT(AA23*AA23+X23*X23) -> 30.348958
B24: ='Мощ-Диаметр-Ширина-Шаг-Угол'!T18 -> 0.45 | C24: ='Мощ-Диаметр-Ширина-Шаг-Угол'!U18 -> 337.5 | D24: ='Мощ-Диаметр-Ширина-Шаг-Угол'!V18 -> 19.116526 | F24: угол b | G24: =D22+I24 -> 46.696193 | I24: 0 | J24: коррекция расчётного угла | O24: 0 | P24: =ROUND(IF(R24<0,-AE24*COS(RADIANS(AD24)),AE24*COS(RADIANS(AC24))),1) -> -17.2 | Q24: =ROUND(IF(R24<0,AE24*SIN(RADIANS(AD24)),AE24*SIN(RADIANS($AC24)))+O24,1) -> -33.2 | R24: =IF(X24<0,-AE24*COS(RADIANS(AB24)),AE24*COS(RADIANS(AB24))) -> -35.963636 | S24: =IF(X24<0,AE24*SIN(RADIANS(AB24)),AE24*SIN(RADIANS(AB24))) -> -10.227273 | T24: 1.35 | U24: =-U4 -> -1.5 | V24: =IF(Y24=11,$G$25-$G$26*W24/100,V23-$G$26*W24/100) -> 9.5363636 | W24: =T24*$G$22/16.5 -> 1.2272727 | X24: =V24-$G$25/2 -> -35.963636 | Y24: 2 | Z24: =U24*$G$22/16.5 -> -1.3636364 | AA24: =$G$26*Z24/100 -> -10.227273 | AB24: =DEGREES(ATAN(AA24/(ABS(X24)))) -> -15.874594 | AC24: =DEGREES(ATAN(AA24/(ABS(X24))))+$G$24 -> 30.821599 | AD24: =DEGREES(ATAN(AA24/(ABS(X24))))-$G$24 -> -62.570787 | AE24: =SQRT(AA24*AA24+X24*X24) -> 37.389574
B25: ='Мощ-Диаметр-Ширина-Шаг-Угол'!T19 -> 0.6 | C25: ='Мощ-Диаметр-Ширина-Шаг-Угол'!U19 -> 450 | D25: ='Мощ-Диаметр-Ширина-Шаг-Угол'!V19 -> 14.571698 | F25: ширина, мм | G25: =ROUND((G26*G27/100)*(G22/16.5),0) -> 91 | O25: 0 | P25: =P49 -> -31.206935 | Q25: =Q49 -> -33.111587 | R25: =IF(X25<0,-AE25*COS(RADIANS(AB25)),AE25*COS(RADIANS(AB25))) -> -45.5 | S25: =IF(X25<0,AE25*SIN(RADIANS(AB25)),AE25*SIN(RADIANS(AB25))) -> 0 | U25: 1.5 | V25: 0 | X25: =V25-$G$25/2 -> -45.5 | Y25: 1 | Z25: =U25*$G$22/16.5 -> 1.3636364 | AA25: =AA4-(-AA24+AA4)/2 -> 0 | AB25: =DEGREES(ATAN(AA25/(ABS(X25)))) -> 0 | AC25: =DEGREES(ATAN(AA25/(ABS(X25))))+$G$24 -> 46.696193 | AD25: =DEGREES(ATAN(AA25/(ABS(X25))))-$G$24 -> -46.696193 | AE25: =SQRT(AA25*AA25+X25*X25) -> 45.5 | AF25: a
B26: ='Мощ-Диаметр-Ширина-Шаг-Угол'!T20 -> 0.75 | C26: ='Мощ-Диаметр-Ширина-Шаг-Угол'!U20 -> 562.5 | D26: ='Мощ-Диаметр-Ширина-Шаг-Угол'!V20 -> 11.747922 | F26: R, мм | G26: =C28 -> 750 | P26: =P36 -> 31.206935 | Q26: =Q36 -> 33.111587
B27: ='Мощ-Диаметр-Ширина-Шаг-Угол'!T21 -> 0.9 | C27: ='Мощ-Диаметр-Ширина-Шаг-Угол'!U21 -> 675 | D27: ='Мощ-Диаметр-Ширина-Шаг-Угол'!V21 -> 9.8318239 | F27: B% | G27: 13.4 | P27: =P49 -> -31.206935 | Q27: =Q49 -> -33.111587
B28: ='Мощ-Диаметр-Ширина-Шаг-Угол'!T22 -> 1 | C28: ='Мощ-Диаметр-Ширина-Шаг-Угол'!U22 -> 750 | D28: ='Мощ-Диаметр-Ширина-Шаг-Угол'!V22 -> 8.8651013 | P28: координаты крайних точек
P36: =IF(R36<0,-AE36*COS(RADIANS(AD36)),AE36*COS(RADIANS(AC36))) -> 31.206935 | Q36: =IF(R36<0,AE36*SIN(RADIANS(AD36)),AE36*SIN(RADIANS($AC36)))+O36 -> 33.111587 | R36: =IF(X36<0,-AE36*COS(RADIANS(AB36)),AE36*COS(RADIANS(AB36))) -> 45.5 | S36: =IF(X36<0,AE36*SIN(RADIANS(AB36)),AE36*SIN(RADIANS(AB36))) -> 0 | X36: =$AG$36*COS(RADIANS($AF36))+$R$14-$AG$36 -> 45.5 | AA36: =$S$14+($AG$36*SIN(RADIANS($AF36))) -> 0 | AB36: =DEGREES(ATAN(AA36/(ABS(X36)))) -> 0 | AC36: =DEGREES(ATAN(AA36/(ABS(X36))))+$G$24 -> 46.696193 | AD36: =DEGREES(ATAN(AA36/(ABS(X36))))-$G$24 -> -46.696193 | AE36: =SQRT(AA36*AA36+X36*X36) -> 45.5 | AF36: 0 | AG36: =ROUND($Z$14*$G$26/100,1) -> 6.8
P37: =IF(R37<0,-AE37*COS(RADIANS(AD37)),AE37*COS(RADIANS(AC37))) -> 26.341763 | Q37: =IF(R37<0,AE37*SIN(RADIANS(AD37)),AE37*SIN(RADIANS($AC37)))+O37 -> 34.960063 | R37: =IF(X37<0,-AE37*COS(RADIANS(AB37)),AE37*COS(RADIANS(AB37))) -> 43.508326 | S37: =IF(X37<0,AE37*SIN(RADIANS(AB37)),AE37*SIN(RADIANS(AB37))) -> 4.8083261 | X37: =$AG$36*COS(RADIANS($AF37))+$R$14-$AG$36 -> 43.508326 | AA37: =$S$14+($AG$36*SIN(RADIANS($AF37))) -> 4.8083261 | AB37: =DEGREES(ATAN(AA37/(ABS(X37)))) -> 6.3064559 | AC37: =DEGREES(ATAN(AA37/(ABS(X37))))+$G$24 -> 53.002649 | AD37: =DEGREES(ATAN(AA37/(ABS(X37))))-$G$24 -> -40.389737 | AE37: =SQRT(AA37*AA37+X37*X37) -> 43.773216 | AF37: 45 | AG37: =CONCATENATE("r1=",$AG$36) -> r1=6,8
P38: =IF(R38<0,-AE38*COS(RADIANS(AD38)),AE38*COS(RADIANS(AC38))) -> 21.594497 | Q38: =IF(R38<0,AE38*SIN(RADIANS(AD38)),AE38*SIN(RADIANS($AC38)))+O38 -> 32.826936 | R38: =IF(X38<0,-AE38*COS(RADIANS(AB38)),AE38*COS(RADIANS(AB38))) -> 38.7 | S38: =IF(X38<0,AE38*SIN(RADIANS(AB38)),AE38*SIN(RADIANS(AB38))) -> 6.8 | X38: =$AG$36*COS(RADIANS($AF38))+$R$14-$AG$36 -> 38.7 | AA38: =$S$14+($AG$36*SIN(RADIANS($AF38))) -> 6.8 | AB38: =DEGREES(ATAN(AA38/(ABS(X38)))) -> 9.965745 | AC38: =DEGREES(ATAN(AA38/(ABS(X38))))+$G$24 -> 56.661938 | AD38: =DEGREES(ATAN(AA38/(ABS(X38))))-$G$24 -> -36.730448 | AE38: =SQRT(AA38*AA38+X38*X38) -> 39.292875 | AF38: 90
P39: =IF(R39<0,-AE39*COS(RADIANS(AD39)),AE39*COS(RADIANS(AC39))) -> 19.746021 | Q39: =IF(R39<0,AE39*SIN(RADIANS(AD39)),AE39*SIN(RADIANS($AC39)))+O39 -> 27.961763 | R39: =IF(X39<0,-AE39*COS(RADIANS(AB39)),AE39*COS(RADIANS(AB39))) -> 33.891674 | S39: =IF(X39<0,AE39*SIN(RADIANS(AB39)),AE39*SIN(RADIANS(AB39))) -> 4.8083261 | X39: =$AG$36*COS(RADIANS($AF39))+$R$14-$AG$36 -> 33.891674 | AA39: =$S$14+($AG$36*SIN(RADIANS($AF39))) -> 4.8083261 | AB39: =DEGREES(ATAN(AA39/(ABS(X39)))) -> 8.0748563 | AC39: =DEGREES(ATAN(AA39/(ABS(X39))))+$G$24 -> 54.771049 | AD39: =DEGREES(ATAN(AA39/(ABS(X39))))-$G$24 -> -38.621337 | AE39: =SQRT(AA39*AA39+X39*X39) -> 34.231061 | AF39: 135
P40: =IF(R40<0,-AE40*COS(RADIANS(AD40)),AE40*COS(RADIANS(AC40))) -> 21.879148 | Q40: =IF(R40<0,AE40*SIN(RADIANS(AD40)),AE40*SIN(RADIANS($AC40)))+O40 -> 23.214497 | R40: =IF(X40<0,-AE40*COS(RADIANS(AB40)),AE40*COS(RADIANS(AB40))) -> 31.9 | S40: =IF(X40<0,AE40*SIN(RADIANS(AB40)),AE40*SIN(RADIANS(AB40))) -> 8.3310095e-16 | X40: =$AG$36*COS(RADIANS($AF40))+$R$14-$AG$36 -> 31.9 | AA40: =$S$14+($AG$36*SIN(RADIANS($AF40))) -> 8.3310095e-16 | AB40: =DEGREES(ATAN(AA40/(ABS(X40)))) -> 1.4963376e-15 | AC40: =DEGREES(ATAN(AA40/(ABS(X40))))+$G$24 -> 46.696193 | AD40: =DEGREES(ATAN(AA40/(ABS(X40))))-$G$24 -> -46.696193 | AE40: =SQRT(AA40*AA40+X40*X40) -> 31.9 | AF40: 180
P41: =IF(R41<0,-AE41*COS(RADIANS(AD41)),AE41*COS(RADIANS(AC41))) -> 26.74432 | Q41: =IF(R41<0,AE41*SIN(RADIANS(AD41)),AE41*SIN(RADIANS($AC41)))+O41 -> 21.366022 | R41: =IF(X41<0,-AE41*COS(RADIANS(AB41)),AE41*COS(RADIANS(AB41))) -> 33.891674 | S41: =IF(X41<0,AE41*SIN(RADIANS(AB41)),AE41*SIN(RADIANS(AB41))) -> -4.8083261 | X41: =$AG$36*COS(RADIANS($AF41))+$R$14-$AG$36 -> 33.891674 | AA41: =$S$14+($AG$36*SIN(RADIANS($AF41))) -> -4.8083261 | AB41: =DEGREES(ATAN(AA41/(ABS(X41)))) -> -8.0748563 | AC41: =DEGREES(ATAN(AA41/(ABS(X41))))+$G$24 -> 38.621337 | AD41: =DEGREES(ATAN(AA41/(ABS(X41))))-$G$24 -> -54.771049 | AE41: =SQRT(AA41*AA41+X41*X41) -> 34.231061 | AF41: -135
P42: =IF(R42<0,-AE42*COS(RADIANS(AD42)),AE42*COS(RADIANS(AC42))) -> 31.491586 | Q42: =IF(R42<0,AE42*SIN(RADIANS(AD42)),AE42*SIN(RADIANS($AC42)))+O42 -> 23.499149 | R42: =IF(X42<0,-AE42*COS(RADIANS(AB42)),AE42*COS(RADIANS(AB42))) -> 38.7 | S42: =IF(X42<0,AE42*SIN(RADIANS(AB42)),AE42*SIN(RADIANS(AB42))) -> -6.8 | X42: =$AG$36*COS(RADIANS($AF42))+$R$14-$AG$36 -> 38.7 | AA42: =$S$14+($AG$36*SIN(RADIANS($AF42))) -> -6.8 | AB42: =DEGREES(ATAN(AA42/(ABS(X42)))) -> -9.965745 | AC42: =DEGREES(ATAN(AA42/(ABS(X42))))+$G$24 -> 36.730448 | AD42: =DEGREES(ATAN(AA42/(ABS(X42))))-$G$24 -> -56.661938 | AE42: =SQRT(AA42*AA42+X42*X42) -> 39.292875 | AF42: -90
P43: =IF(R43<0,-AE43*COS(RADIANS(AD43)),AE43*COS(RADIANS(AC43))) -> 33.340062 | Q43: =IF(R43<0,AE43*SIN(RADIANS(AD43)),AE43*SIN(RADIANS($AC43)))+O43 -> 28.364321 | R43: =IF(X43<0,-AE43*COS(RADIANS(AB43)),AE43*COS(RADIANS(AB43))) -> 43.508326 | S43: =IF(X43<0,AE43*SIN(RADIANS(AB43)),AE43*SIN(RADIANS(AB43))) -> -4.8083261 | X43: =$AG$36*COS(RADIANS($AF43))+$R$14-$AG$36 -> 43.508326 | AA43: =$S$14+($AG$36*SIN(RADIANS($AF43))) -> -4.8083261 | AB43: =DEGREES(ATAN(AA43/(ABS(X43)))) -> -6.3064559 | AC43: =DEGREES(ATAN(AA43/(ABS(X43))))+$G$24 -> 40.389737 | AD43: =DEGREES(ATAN(AA43/(ABS(X43))))-$G$24 -> -53.002649 | AE43: =SQRT(AA43*AA43+X43*X43) -> 43.773216 | AF43: -45
P44: =IF(R44<0,-AE44*COS(RADIANS(AD44)),AE44*COS(RADIANS(AC44))) -> 31.206935 | Q44: =IF(R44<0,AE44*SIN(RADIANS(AD44)),AE44*SIN(RADIANS($AC44)))+O44 -> 33.111587 | R44: =IF(X44<0,-AE44*COS(RADIANS(AB44)),AE44*COS(RADIANS(AB44))) -> 45.5 | S44: =IF(X44<0,AE44*SIN(RADIANS(AB44)),AE44*SIN(RADIANS(AB44))) -> 0 | X44: =$AG$36*COS(RADIANS($AF44))+$R$14-$AG$36 -> 45.5 | AA44: =$S$14+($AG$36*SIN(RADIANS($AF44))) -> 0 | AB44: =DEGREES(ATAN(AA44/(ABS(X44)))) -> 0 | AC44: =DEGREES(ATAN(AA44/(ABS(X44))))+$G$24 -> 46.696193 | AD44: =DEGREES(ATAN(AA44/(ABS(X44))))-$G$24 -> -46.696193 | AE44: =SQRT(AA44*AA44+X44*X44) -> 45.5 | AF44: 0
P45: =IF(R45<0,-AE45*COS(RADIANS(AD45)),AE45*COS(RADIANS(AC45))) -> -17.215254 | Q45: =IF(R45<0,AE45*SIN(RADIANS(AD45)),AE45*SIN(RADIANS($AC45)))+O45 -> -18.265952 | R45: =IF(X45<0,-AE45*COS(RADIANS(AB45)),AE45*COS(RADIANS(AB45))) -> -25.1 | S45: =IF(X45<0,AE45*SIN(RADIANS(AB45)),AE45*SIN(RADIANS(AB45))) -> 0 | X45: =$AG$45*COS(RADIANS(AF45))+$R$25+$AG$45 -> -25.1 | AA45: =$S$25+($AG$45*SIN(RADIANS($AF45))) -> 0 | AB45: =DEGREES(ATAN(AA45/(ABS(X45)))) -> 0 | AC45: =DEGREES(ATAN(AA45/(ABS(X45))))+$G$24 -> 46.696193 | AD45: =DEGREES(ATAN(AA45/(ABS(X45))))-$G$24 -> -46.696193 | AE45: =SQRT(AA45*AA45+X45*X45) -> 25.1 | AF45: 0 | AG45: =ROUND($Z$25*$G$26/100,1) -> 10.2
P46: =IF(R46<0,-AE46*COS(RADIANS(AD46)),AE46*COS(RADIANS(AC46))) -> -24.513013 | Q46: =IF(R46<0,AE46*SIN(RADIANS(AD46)),AE46*SIN(RADIANS($AC46)))+O46 -> -15.493239 | R46: =IF(X46<0,-AE46*COS(RADIANS(AB46)),AE46*COS(RADIANS(AB46))) -> -28.087511 | S46: =IF(X46<0,AE46*SIN(RADIANS(AB46)),AE46*SIN(RADIANS(AB46))) -> 7.2124892 | X46: =$AG$45*COS(RADIANS(AF46))+$R$25+$AG$45 -> -28.087511 | AA46: =$S$25+($AG$45*SIN(RADIANS($AF46))) -> 7.2124892 | AB46: =DEGREES(ATAN(AA46/(ABS(X46)))) -> 14.401612 | AC46: =DEGREES(ATAN(AA46/(ABS(X46))))+$G$24 -> 61.097805 | AD46: =DEGREES(ATAN(AA46/(ABS(X46))))-$G$24 -> -32.294582 | AE46: =SQRT(AA46*AA46+X46*X46) -> 28.998763 | AF46: 45 | AG46: =CONCATENATE("r2=",$AG$45) -> r2=10,2
P47: =IF(R47<0,-AE47*COS(RADIANS(AD47)),AE47*COS(RADIANS(AC47))) -> -31.633912 | Q47: =IF(R47<0,AE47*SIN(RADIANS(AD47)),AE47*SIN(RADIANS($AC47)))+O47 -> -18.692929 | R47: =IF(X47<0,-AE47*COS(RADIANS(AB47)),AE47*COS(RADIANS(AB47))) -> -35.3 | S47: =IF(X47<0,AE47*SIN(RADIANS(AB47)),AE47*SIN(RADIANS(AB47))) -> 10.2 | X47: =$AG$45*COS(RADIANS(AF47))+$R$25+$AG$45 -> -35.3 | AA47: =$S$25+($AG$45*SIN(RADIANS($AF47))) -> 10.2 | AB47: =DEGREES(ATAN(AA47/(ABS(X47)))) -> 16.116747 | AC47: =DEGREES(ATAN(AA47/(ABS(X47))))+$G$24 -> 62.81294 | AD47: =DEGREES(ATAN(AA47/(ABS(X47))))-$G$24 -> -30.579446 | AE47: =SQRT(AA47*AA47+X47*X47) -> 36.744115 | AF47: 90
P48: =IF(R48<0,-AE48*COS(RADIANS(AD48)),AE48*COS(RADIANS(AC48))) -> -34.406625 | Q48: =IF(R48<0,AE48*SIN(RADIANS(AD48)),AE48*SIN(RADIANS($AC48)))+O48 -> -25.990688 | R48: =IF(X48<0,-AE48*COS(RADIANS(AB48)),AE48*COS(RADIANS(AB48))) -> -42.512489 | S48: =IF(X48<0,AE48*SIN(RADIANS(AB48)),AE48*SIN(RADIANS(AB48))) -> 7.2124892 | X48: =$AG$45*COS(RADIANS(AF48))+$R$25+$AG$45 -> -42.512489 | AA48: =$S$25+($AG$45*SIN(RADIANS($AF48))) -> 7.2124892 | AB48: =DEGREES(ATAN(AA48/(ABS(X48)))) -> 9.6288754 | AC48: =DEGREES(ATAN(AA48/(ABS(X48))))+$G$24 -> 56.325069 | AD48: =DEGREES(ATAN(AA48/(ABS(X48))))-$G$24 -> -37.067318 | AE48: =SQRT(AA48*AA48+X48*X48) -> 43.119969 | AF48: 135
...

Sheet Сеч 0,3
T1: ширина | U1: толщина
O2: +Y сглаж | P2: X | Q2: Y | R2: X1 | S2: Y1 | T2: B, (16,5%) | U2: С,(16,5%) r,% | V2: В мм | W2: B % | X2: B но ОХ | Z2: С,X% r,% | AA2: С, мм | AB2: угол a | AC2: угол a+b | AD2: угол a-b | AE2: Гип.
O4: 0 | P4: =ROUND(IF(R4<0,-AE4*COS(RADIANS(AD4)),AE4*COS(RADIANS(AC4))),1) -> -35.3 | Q4: =ROUND(IF(R4<0,AE4*SIN(RADIANS(AD4)),AE4*SIN(RADIANS($AC4)))+O4,1) -> -11.8 | R4: =IF(X4<0,-AE4*COS(RADIANS(AB4)),AE4*COS(RADIANS(AB4))) -> -36.795455 | S4: =IF(X4<0,AE4*SIN(RADIANS(AB4)),AE4*SIN(RADIANS(AB4))) -> 5.7954545 | T4: 1.35 | U4: 0.85 | V4: =IF(Y4=1,$G$26*W4/100,V3+$G$26*W4/100) -> 9.2045455 | W4: =T4*$G$22/16.5 -> 1.2272727 | X4: =V4-$G$25/2 -> -36.795455 | Y4: 2 | Z4: =U4*$G$22/16.5 -> 0.77272727 | AA4: =$G$26*Z4/100 -> 5.7954545 | AB4: =DEGREES(ATAN(AA4/(ABS(X4)))) -> 8.9508177 | AC4: =DEGREES(ATAN(AA4/(ABS(X4))))+$G$24 -> 36.421017 | AD4: =DEGREES(ATAN(AA4/(ABS(X4))))-$G$24 -> -18.519381 | AE4: =SQRT(AA4*AA4+X4*X4) -> 37.249064
O5: 0 | P5: =ROUND(IF(R5<0,-AE5*COS(RADIANS(AD5)),AE5*COS(RADIANS(AC5))),1) -> -28.6 | Q5: =ROUND(IF(R5<0,AE5*SIN(RADIANS(AD5)),AE5*SIN(RADIANS($AC5)))+O5,1) -> -4.7 | R5: =IF(X5<0,-AE5*COS(RADIANS(AB5)),AE5*COS(RADIANS(AB5))) -> -27.590909 | S5: =IF(X5<0,AE5*SIN(RADIANS(AB5)),AE5*SIN(RADIANS(AB5))) -> 9.0272727 | T5: 1.35 | U5: 1.324 | V5: =IF(Y5=1,$G$26*W5/100,V4+$G$26*W5/100) -> 18.409091 | W5: =T5*$G$22/16.5 -> 1.2272727 | X5: =V5-$G$25/2 -> -27.590909 | Y5: 3 | Z5: =U5*$G$22/16.5 -> 1.2036364 | AA5: =$G$26*Z5/100 -> 9.0272727 | AB5: =DEGREES(ATAN(AA5/(ABS(X5)))) -> 18.11721 | AC5: =DEGREES(ATAN(AA5/(ABS(X5))))+$G$24 -> 45.587409 | AD5: =DEGREES(ATAN(AA5/(ABS(X5))))-$G$24 -> -9.3529895 | AE5: =SQRT(AA5*AA5+X5*X5) -> 29.030155
O6: 0 | P6: =ROUND(IF(R6<0,-AE6*COS(RADIANS(AD6)),AE6*COS(RADIANS(AC6))),1) -> -21.8 | Q6: =ROUND(IF(R6<0,AE6*SIN(RADIANS(AD6)),AE6*SIN(RADIANS($AC6)))+O6,1) -> 2 | R6: =IF(X6<0,-AE6*COS(RADIANS(AB6)),AE6*COS(RADIANS(AB6))) -> -18.386364 | S6: =IF(X6<0,AE6*SIN(RADIANS(AB6)),AE6*SIN(RADIANS(AB6))) -> 11.863636 | T6: 1.35 | U6: 1.74 | V6: =IF(Y6=1,$G$26*W6/100,V5+$G$26*W6/100) -> 27.613636 | W6: =T6*$G$22/16.5 -> 1.2272727 | X6: =V6-$G$25/2 -> -18.386364 | Y6: 4 | Z6: =U6*$G$22/16.5 -> 1.5818182 | AA6: =$G$26*Z6/100 -> 11.863636 | AB6: =DEGREES(ATAN(AA6/(ABS(X6)))) -> 32.831768 | AC6: =DEGREES(ATAN(AA6/(ABS(X6))))+$G$24 -> 60.301967 | AD6: =DEGREES(ATAN(AA6/(ABS(X6))))-$G$24 -> 5.3615689 | AE6: =SQRT(AA6*AA6+X6*X6) -> 21.881596
O7: 0 | P7: =ROUND(IF(R7<0,-AE7*COS(RADIANS(AD7)),AE7*COS(RADIANS(AC7))),1) -> -14.8 | Q7: =ROUND(IF(R7<0,AE7*SIN(RADIANS(AD7)),AE7*SIN(RADIANS($AC7)))+O7,1) -> 8.6 | R7: =IF(X7<0,-AE7*COS(RADIANS(AB7)),AE7*COS(RADIANS(AB7))) -> -9.1818182 | S7: =IF(X7<0,AE7*SIN(RADIANS(AB7)),AE7*SIN(RADIANS(AB7))) -> 14.454545 | T7: 1.35 | U7: 2.12 | V7: =IF(Y7=1,$G$26*W7/100,V6+$G$26*W7/100) -> 36.818182 | W7: =T7*$G$22/16.5 -> 1.2272727 | X7: =V7-$G$25/2 -> -9.1818182 | Y7: 5 | Z7: =U7*$G$22/16.5 -> 1.9272727 | AA7: =$G$26*Z7/100 -> 14.454545 | AB7: =DEGREES(ATAN(AA7/(ABS(X7)))) -> 57.575465 | AC7: =DEGREES(ATAN(AA7/(ABS(X7))))+$G$24 -> 85.045665 | AD7: =DEGREES(ATAN(AA7/(ABS(X7))))-$G$24 -> 30.105266 | AE7: =SQRT(AA7*AA7+X7*X7) -> 17.124242
O8: 0 | P8: =ROUND(IF(R8<0,-AE8*COS(RADIANS(AD8)),AE8*COS(RADIANS(AC8))),1) -> -7.6 | Q8: =ROUND(IF(R8<0,AE8*SIN(RADIANS(AD8)),AE8*SIN(RADIANS($AC8)))+O8,1) -> 14.6 | R8: =IF(X8<0,-AE8*COS(RADIANS(AB8)),AE8*COS(RADIANS(AB8))) -> 0.022727273 | S8: =IF(X8<0,AE8*SIN(RADIANS(AB8)),AE8*SIN(RADIANS(AB8))) -> 16.472727 | T8: 1.35 | U8: 2.416 | V8: =IF(Y8=1,$G$26*W8/100,V7+$G$26*W8/100) -> 46.022727 | W8: =T8*$G$22/16.5 -> 1.2272727 | X8: =V8-$G$25/2 -> 0.022727273 | Y8: 6 | Z8: =U8*$G$22/16.5 -> 2.1963636 | AA8: =$G$26*Z8/100 -> 16.472727 | AB8: =DEGREES(ATAN(AA8/(ABS(X8)))) -> 89.92095 | AC8: =DEGREES(ATAN(AA8/(ABS(X8))))+$G$24 -> 117.39115 | AD8: =DEGREES(ATAN(AA8/(ABS(X8))))-$G$24 -> 62.450751 | AE8: =SQRT(AA8*AA8+X8*X8) -> 16.472743
O9: 0 | P9: =ROUND(IF(R9<0,-AE9*COS(RADIANS(AD9)),AE9*COS(RADIANS(AC9))),1) -> 0 | Q9: =ROUND(IF(R9<0,AE9*SIN(RADIANS(AD9)),AE9*SIN(RADIANS($AC9)))+O9,1) -> 20 | R9: =IF(X9<0,-AE9*COS(RADIANS(AB9)),AE9*COS(RADIANS(AB9))) -> 9.2272727 | S9: =IF(X9<0,AE9*SIN(RADIANS(AB9)),AE9*SIN(RADIANS(AB9))) -> 17.754545 | T9: 1.35 | U9: 2.604 | V9: =IF(Y9=1,$G$26*W9/100,V8+$G$26*W9/100) -> 55.227273 | W9: =T9*$G$22/16.5 -> 1.2272727 | X9: =V9-$G$25/2 -> 9.2272727 | Y9: 7 | Z9: =U9*$G$22/16.5 -> 2.3672727 | AA9: =$G$26*Z9/100 -> 17.754545 | AB9: =DEGREES(ATAN(AA9/(ABS(X9)))) -> 62.538502 | AC9: =DEGREES(ATAN(AA9/(ABS(X9))))+$G$24 -> 90.008701 | AD9: =DEGREES(ATAN(AA9/(ABS(X9))))-$G$24 -> 35.068303 | AE9: =SQRT(AA9*AA9+X9*X9) -> 20.009159
O10: 0 | P10: =ROUND(IF(R10<0,-AE10*COS(RADIANS(AD10)),AE10*COS(RADIANS(AC10))),1) -> 8.1 | Q10: =ROUND(IF(R10<0,AE10*SIN(RADIANS(AD10)),AE10*SIN(RADIANS($AC10)))+O10,1) -> 24.4 | R10: =IF(X10<0,-AE10*COS(RADIANS(AB10)),AE10*COS(RADIANS(AB10))) -> 18.431818 | S10: =IF(X10<0,AE10*SIN(RADIANS(AB10)),AE10*SIN(RADIANS(AB10))) -> 17.877273 | T10: 1.35 | U10: 2.622 | V10: =IF(Y10=1,$G$26*W10/100,V9+$G$26*W10/100) -> 64.431818 | W10: =T10*$G$22/16.5 -> 1.2272727 | X10: =V10-$G$25/2 -> 18.431818 | Y10: 8 | Z10: =U10*$G$22/16.5 -> 2.3836364 | AA10: =$G$26*Z10/100 -> 17.877273 | AB10: =DEGREES(ATAN(AA10/(ABS(X10)))) -> 44.124995 | AC10: =DEGREES(ATAN(AA10/(ABS(X10))))+$G$24 -> 71.595194 | AD10: =DEGREES(ATAN(AA10/(ABS(X10))))-$G$24 -> 16.654796 | AE10: =SQRT(AA10*AA10+X10*X10) -> 25.677399
O11: 0 | P11: =ROUND(IF(R11<0,-AE11*COS(RADIANS(AD11)),AE11*COS(RADIANS(AC11))),1) -> 16.9 | Q11: =ROUND(IF(R11<0,AE11*SIN(RADIANS(AD11)),AE11*SIN(RADIANS($AC11)))+O11,1) -> 27.4 | R11: =IF(X11<0,-AE11*COS(RADIANS(AB11)),AE11*COS(RADIANS(AB11))) -> 27.636364 | S11: =IF(X11<0,AE11*SIN(RADIANS(AB11)),AE11*SIN(RADIANS(AB11))) -> 16.513636 | T11: 1.35 | U11: 2.422 | V11: =IF(Y11=1,$G$26*W11/100,V10+$G$26*W11/100) -> 73.636364 | W11: =T11*$G$22/16.5 -> 1.2272727 | X11: =V11-$G$25/2 -> 27.636364 | Y11: 9 | Z11: =U11*$G$22/16.5 -> 2.2018182 | AA11: =$G$26*Z11/100 -> 16.513636 | AB11: =DEGREES(ATAN(AA11/(ABS(X11)))) -> 30.859706 | AC11: =DEGREES(ATAN(AA11/(ABS(X11))))+$G$24 -> 58.329905 | AD11: =DEGREES(ATAN(AA11/(ABS(X11))))-$G$24 -> 3.389507 | AE11: =SQRT(AA11*AA11+X11*X11) -> 32.194235
O12: 0 | P12: =ROUND(IF(R12<0,-AE12*COS(RADIANS(AD12)),AE12*COS(RADIANS(AC12))),1) -> 26.6 | Q12: =ROUND(IF(R12<0,AE12*SIN(RADIANS(AD12)),AE12*SIN(RADIANS($AC12)))+O12,1) -> 28.8 | R12: =IF(X12<0,-AE12*COS(RADIANS(AB12)),AE12*COS(RADIANS(AB12))) -> 36.840909 | S12: =IF(X12<0,AE12*SIN(RADIANS(AB12)),AE12*SIN(RADIANS(AB12))) -> 13.254545 | T12: 1.35 | U12: 1.944 | V12: =IF(Y12=1,$G$26*W12/100,V11+$G$26*W12/100) -> 82.840909 | W12: =T12*$G$22/16.5 -> 1.2272727 | X12: =V12-$G$25/2 -> 36.840909 | Y12: 10 | Z12: =U12*$G$22/16.5 -> 1.7672727 | AA12: =$G$26*Z12/100 -> 13.254545 | AB12: =DEGREES(ATAN(AA12/(ABS(X12)))) -> 19.787611 | AC12: =DEGREES(ATAN(AA12/(ABS(X12))))+$G$24 -> 47.25781 | AD12: =DEGREES(ATAN(AA12/(ABS(X12))))-$G$24 -> -7.6825881 | AE12: =SQRT(AA12*AA12+X12*X12) -> 39.152721
O13: 2 | P13: =ROUND(IF(R13<0,-AE13*COS(RADIANS(AD13)),AE13*COS(RADIANS(AC13))),1) -> 32 | Q13: =ROUND(IF(R13<0,AE13*SIN(RADIANS(AD13)),AE13*SIN(RADIANS($AC13)))+O13,1) -> 28.7 | R13: =IF(X13<0,-AE13*COS(RADIANS(AB13)),AE13*COS(RADIANS(AB13))) -> 40.754545 | S13: =IF(X13<0,AE13*SIN(RADIANS(AB13)),AE13*SIN(RADIANS(AB13))) -> 8.9181818 | T13: 0.574 | U13: 1.308 | V13: =IF(Y13=1,$G$26*W13/100,V12+$G$26*W13/100) -> 86.754545 | W13: =T13*$G$22/16.5 -> 0.52181818 | X13: =V13-$G$25/2 -> 40.754545 | Y13: 11 | Z13: =U13*$G$22/16.5 -> 1.1890909 | AA13: =$G$26*Z13/100 -> 8.9181818 | AB13: =DEGREES(ATAN(AA13/(ABS(X13)))) -> 12.34328 | AC13: =DEGREES(ATAN(AA13/(ABS(X13))))+$G$24 -> 39.813479 | AD13: =DEGREES(ATAN(AA13/(ABS(X13))))-$G$24 -> -15.126919 | AE13: =SQRT(AA13*AA13+X13*X13) -> 41.718904
O14: 0 | P14: =P36 -> 38.913876 | Q14: =Q36 -> 24.873071 | R14: =IF(X14<0,-AE14*COS(RADIANS(AB14)),AE14*COS(RADIANS(AB14))) -> 46 | S14: =IF(X14<0,AE14*SIN(RADIANS(AB14)),AE14*SIN(RADIANS(AB14))) -> 4.1181818 | U14: =0.83 -> 0.83 | V14: =G25 -> 92 | W14: =T14*$G$22/16.5 -> 0 | X14: =V14-$G$25/2 -> 46 | Y14: 12 | Z14: =U14*$G$22/16.5 -> 0.75454545 | AA14: =AA13-(AA13-AA15)/2 -> 4.1181818 | AB14: =DEGREES(ATAN(AA14/(ABS(X14)))) -> 5.1158059 | AC14: =DEGREES(ATAN(AA14/(ABS(X14))))+$G$24 -> 32.586005 | AD14: =DEGREES(ATAN(AA14/(ABS(X14))))-$G$24 -> -22.354393 | AE14: =SQRT(AA14*AA14+X14*X14) -> 46.183974
